BEGIN:VCALENDAR
VERSION:2.0
PRODID:-//Superior Public Library - ECPv6.15.20//NONSGML v1.0//EN
CALSCALE:GREGORIAN
METHOD:PUBLISH
X-ORIGINAL-URL:https://superiorlibrary.org
X-WR-CALDESC:Events for Superior Public Library
REFRESH-INTERVAL;VALUE=DURATION:PT1H
X-Robots-Tag:noindex
X-PUBLISHED-TTL:PT1H
BEGIN:VTIMEZONE
TZID:America/Chicago
BEGIN:DAYLIGHT
TZOFFSETFROM:-0600
TZOFFSETTO:-0500
TZNAME:CDT
DTSTART:20250309T080000
END:DAYLIGHT
BEGIN:STANDARD
TZOFFSETFROM:-0500
TZOFFSETTO:-0600
TZNAME:CST
DTSTART:20251102T070000
END:STANDARD
BEGIN:DAYLIGHT
TZOFFSETFROM:-0600
TZOFFSETTO:-0500
TZNAME:CDT
DTSTART:20260308T080000
END:DAYLIGHT
BEGIN:STANDARD
TZOFFSETFROM:-0500
TZOFFSETTO:-0600
TZNAME:CST
DTSTART:20261101T070000
END:STANDARD
BEGIN:DAYLIGHT
TZOFFSETFROM:-0600
TZOFFSETTO:-0500
TZNAME:CDT
DTSTART:20270314T080000
END:DAYLIGHT
BEGIN:STANDARD
TZOFFSETFROM:-0500
TZOFFSETTO:-0600
TZNAME:CST
DTSTART:20271107T070000
END:STANDARD
END:VTIMEZONE
BEGIN:VEVENT
DTSTART;TZID=America/Chicago:20260429T180000
DTEND;TZID=America/Chicago:20260429T190000
DTSTAMP:20260420T032010
CREATED:20260415T195917Z
LAST-MODIFIED:20260415T195917Z
UID:10003562-1777485600-1777489200@superiorlibrary.org
SUMMARY:Read Between the Wines Silent Book Club
DESCRIPTION:Our next Read Between the Wines Silent Book Club at Wine Seller Winery will be held April 29 at 6 p.m. Come on down to Wine Seller Winery (1409 Belknap Street) to read and talk about books with other eager readers. Wine and non-alcoholic beverage options available for purchase. No registration required.
URL:https://superiorlibrary.org/event/read-between-the-wines-silent-book-club/
LOCATION:Wine Seller Winery\, 1409 Belknap Street\, Superior\, 54880\, United States
CATEGORIES:Adult Event,Community Event,In-Person Event,Meetings
ATTACH;FMTTYPE=image/jpeg:https://superiorlibrary.org/2019/wp-content/uploads/2026/04/Read-1080-x-1080-px-14.jpg
END:VEVENT
END:VCALENDAR