BEGIN:VCALENDAR
VERSION:2.0
PRODID:-//Superior Public Library - ECPv6.15.20//NONSGML v1.0//EN
CALSCALE:GREGORIAN
METHOD:PUBLISH
X-WR-CALNAME:Superior Public Library
X-ORIGINAL-URL:https://superiorlibrary.org
X-WR-CALDESC:Events for Superior Public Library
REFRESH-INTERVAL;VALUE=DURATION:PT1H
X-Robots-Tag:noindex
X-PUBLISHED-TTL:PT1H
BEGIN:VTIMEZONE
TZID:America/Chicago
BEGIN:DAYLIGHT
TZOFFSETFROM:-0600
TZOFFSETTO:-0500
TZNAME:CDT
DTSTART:20250309T080000
END:DAYLIGHT
BEGIN:STANDARD
TZOFFSETFROM:-0500
TZOFFSETTO:-0600
TZNAME:CST
DTSTART:20251102T070000
END:STANDARD
BEGIN:DAYLIGHT
TZOFFSETFROM:-0600
TZOFFSETTO:-0500
TZNAME:CDT
DTSTART:20260308T080000
END:DAYLIGHT
BEGIN:STANDARD
TZOFFSETFROM:-0500
TZOFFSETTO:-0600
TZNAME:CST
DTSTART:20261101T070000
END:STANDARD
BEGIN:DAYLIGHT
TZOFFSETFROM:-0600
TZOFFSETTO:-0500
TZNAME:CDT
DTSTART:20270314T080000
END:DAYLIGHT
BEGIN:STANDARD
TZOFFSETFROM:-0500
TZOFFSETTO:-0600
TZNAME:CST
DTSTART:20271107T070000
END:STANDARD
END:VTIMEZONE
BEGIN:VEVENT
DTSTART;TZID=America/Chicago:20260629T180000
DTEND;TZID=America/Chicago:20260629T190000
DTSTAMP:20260421T202407
CREATED:20251201T154029Z
LAST-MODIFIED:20260317T180443Z
UID:10003492-1782756000-1782759600@superiorlibrary.org
SUMMARY:Tween & Teen Writing Club
DESCRIPTION:Are you a tween or teen who loves writing? Join us at the library for our Tween & Teen Writing Club on Mondays from 6-7 p.m. and enjoy writing/brainstorming games\, short lessons on effective writing skills\, and plenty of time to share your writing. This group is led by writer/educator Karen Christian and no registration is required!\n\n\n**There will be NO writing club on Monday\, December 29.**
URL:https://superiorlibrary.org/event/tween-teen-writing-club/2026-06-29/
LOCATION:Superior Public Library\, 1530 Tower Ave.\, Superior\, WI\, 54880\, United States
CATEGORIES:Community Event,In-Person Event,Meetings,Teen Event,Youth Services
ATTACH;FMTTYPE=image/png:https://superiorlibrary.org/2019/wp-content/uploads/2025/09/Your-paragraph-text-1080-x-1080-px-30.png
END:VEVENT
BEGIN:VEVENT
DTSTART;TZID=America/Chicago:20260706T160000
DTEND;TZID=America/Chicago:20260706T180000
DTSTAMP:20260421T202407
CREATED:20260105T174550Z
LAST-MODIFIED:20260105T174550Z
UID:10003116-1783353600-1783360800@superiorlibrary.org
SUMMARY:Lego Club
DESCRIPTION:Join us at Superior Public Library every Monday from 4-6 p.m. for our Lego Club and make something AMAZING using our huge collection of Legos! Perfect for ages 3-12.
URL:https://superiorlibrary.org/event/lego-club/2026-07-06/
LOCATION:Superior Public Library\, 1530 Tower Ave.\, Superior\, WI\, 54880\, United States
CATEGORIES:Community Event,In-Person Event,Youth Services
ATTACH;FMTTYPE=image/png:https://superiorlibrary.org/2019/wp-content/uploads/2022/05/Blue-Illustration-Happy-International-Lego-Day-Instagram-Post.png
END:VEVENT
BEGIN:VEVENT
DTSTART;TZID=America/Chicago:20260706T180000
DTEND;TZID=America/Chicago:20260706T190000
DTSTAMP:20260421T202407
CREATED:20251201T154029Z
LAST-MODIFIED:20260317T180443Z
UID:10003493-1783360800-1783364400@superiorlibrary.org
SUMMARY:Tween & Teen Writing Club
DESCRIPTION:Are you a tween or teen who loves writing? Join us at the library for our Tween & Teen Writing Club on Mondays from 6-7 p.m. and enjoy writing/brainstorming games\, short lessons on effective writing skills\, and plenty of time to share your writing. This group is led by writer/educator Karen Christian and no registration is required!\n\n\n**There will be NO writing club on Monday\, December 29.**
URL:https://superiorlibrary.org/event/tween-teen-writing-club/2026-07-06/
LOCATION:Superior Public Library\, 1530 Tower Ave.\, Superior\, WI\, 54880\, United States
CATEGORIES:Community Event,In-Person Event,Meetings,Teen Event,Youth Services
ATTACH;FMTTYPE=image/png:https://superiorlibrary.org/2019/wp-content/uploads/2025/09/Your-paragraph-text-1080-x-1080-px-30.png
END:VEVENT
BEGIN:VEVENT
DTSTART;TZID=America/Chicago:20260713T160000
DTEND;TZID=America/Chicago:20260713T180000
DTSTAMP:20260421T202407
CREATED:20260105T174550Z
LAST-MODIFIED:20260105T174550Z
UID:10003117-1783958400-1783965600@superiorlibrary.org
SUMMARY:Lego Club
DESCRIPTION:Join us at Superior Public Library every Monday from 4-6 p.m. for our Lego Club and make something AMAZING using our huge collection of Legos! Perfect for ages 3-12.
URL:https://superiorlibrary.org/event/lego-club/2026-07-13/
LOCATION:Superior Public Library\, 1530 Tower Ave.\, Superior\, WI\, 54880\, United States
CATEGORIES:Community Event,In-Person Event,Youth Services
ATTACH;FMTTYPE=image/png:https://superiorlibrary.org/2019/wp-content/uploads/2022/05/Blue-Illustration-Happy-International-Lego-Day-Instagram-Post.png
END:VEVENT
BEGIN:VEVENT
DTSTART;TZID=America/Chicago:20260713T180000
DTEND;TZID=America/Chicago:20260713T190000
DTSTAMP:20260421T202407
CREATED:20251201T154029Z
LAST-MODIFIED:20260317T180443Z
UID:10003494-1783965600-1783969200@superiorlibrary.org
SUMMARY:Tween & Teen Writing Club
DESCRIPTION:Are you a tween or teen who loves writing? Join us at the library for our Tween & Teen Writing Club on Mondays from 6-7 p.m. and enjoy writing/brainstorming games\, short lessons on effective writing skills\, and plenty of time to share your writing. This group is led by writer/educator Karen Christian and no registration is required!\n\n\n**There will be NO writing club on Monday\, December 29.**
URL:https://superiorlibrary.org/event/tween-teen-writing-club/2026-07-13/
LOCATION:Superior Public Library\, 1530 Tower Ave.\, Superior\, WI\, 54880\, United States
CATEGORIES:Community Event,In-Person Event,Meetings,Teen Event,Youth Services
ATTACH;FMTTYPE=image/png:https://superiorlibrary.org/2019/wp-content/uploads/2025/09/Your-paragraph-text-1080-x-1080-px-30.png
END:VEVENT
BEGIN:VEVENT
DTSTART;TZID=America/Chicago:20260720T160000
DTEND;TZID=America/Chicago:20260720T180000
DTSTAMP:20260421T202407
CREATED:20260105T174550Z
LAST-MODIFIED:20260105T174550Z
UID:10003118-1784563200-1784570400@superiorlibrary.org
SUMMARY:Lego Club
DESCRIPTION:Join us at Superior Public Library every Monday from 4-6 p.m. for our Lego Club and make something AMAZING using our huge collection of Legos! Perfect for ages 3-12.
URL:https://superiorlibrary.org/event/lego-club/2026-07-20/
LOCATION:Superior Public Library\, 1530 Tower Ave.\, Superior\, WI\, 54880\, United States
CATEGORIES:Community Event,In-Person Event,Youth Services
ATTACH;FMTTYPE=image/png:https://superiorlibrary.org/2019/wp-content/uploads/2022/05/Blue-Illustration-Happy-International-Lego-Day-Instagram-Post.png
END:VEVENT
BEGIN:VEVENT
DTSTART;TZID=America/Chicago:20260720T180000
DTEND;TZID=America/Chicago:20260720T190000
DTSTAMP:20260421T202407
CREATED:20251201T154029Z
LAST-MODIFIED:20260317T180443Z
UID:10003495-1784570400-1784574000@superiorlibrary.org
SUMMARY:Tween & Teen Writing Club
DESCRIPTION:Are you a tween or teen who loves writing? Join us at the library for our Tween & Teen Writing Club on Mondays from 6-7 p.m. and enjoy writing/brainstorming games\, short lessons on effective writing skills\, and plenty of time to share your writing. This group is led by writer/educator Karen Christian and no registration is required!\n\n\n**There will be NO writing club on Monday\, December 29.**
URL:https://superiorlibrary.org/event/tween-teen-writing-club/2026-07-20/
LOCATION:Superior Public Library\, 1530 Tower Ave.\, Superior\, WI\, 54880\, United States
CATEGORIES:Community Event,In-Person Event,Meetings,Teen Event,Youth Services
ATTACH;FMTTYPE=image/png:https://superiorlibrary.org/2019/wp-content/uploads/2025/09/Your-paragraph-text-1080-x-1080-px-30.png
END:VEVENT
BEGIN:VEVENT
DTSTART;TZID=America/Chicago:20260727T160000
DTEND;TZID=America/Chicago:20260727T180000
DTSTAMP:20260421T202407
CREATED:20260105T174550Z
LAST-MODIFIED:20260105T174550Z
UID:10003119-1785168000-1785175200@superiorlibrary.org
SUMMARY:Lego Club
DESCRIPTION:Join us at Superior Public Library every Monday from 4-6 p.m. for our Lego Club and make something AMAZING using our huge collection of Legos! Perfect for ages 3-12.
URL:https://superiorlibrary.org/event/lego-club/2026-07-27/
LOCATION:Superior Public Library\, 1530 Tower Ave.\, Superior\, WI\, 54880\, United States
CATEGORIES:Community Event,In-Person Event,Youth Services
ATTACH;FMTTYPE=image/png:https://superiorlibrary.org/2019/wp-content/uploads/2022/05/Blue-Illustration-Happy-International-Lego-Day-Instagram-Post.png
END:VEVENT
BEGIN:VEVENT
DTSTART;TZID=America/Chicago:20260727T180000
DTEND;TZID=America/Chicago:20260727T190000
DTSTAMP:20260421T202407
CREATED:20251201T154029Z
LAST-MODIFIED:20260317T180443Z
UID:10003496-1785175200-1785178800@superiorlibrary.org
SUMMARY:Tween & Teen Writing Club
DESCRIPTION:Are you a tween or teen who loves writing? Join us at the library for our Tween & Teen Writing Club on Mondays from 6-7 p.m. and enjoy writing/brainstorming games\, short lessons on effective writing skills\, and plenty of time to share your writing. This group is led by writer/educator Karen Christian and no registration is required!\n\n\n**There will be NO writing club on Monday\, December 29.**
URL:https://superiorlibrary.org/event/tween-teen-writing-club/2026-07-27/
LOCATION:Superior Public Library\, 1530 Tower Ave.\, Superior\, WI\, 54880\, United States
CATEGORIES:Community Event,In-Person Event,Meetings,Teen Event,Youth Services
ATTACH;FMTTYPE=image/png:https://superiorlibrary.org/2019/wp-content/uploads/2025/09/Your-paragraph-text-1080-x-1080-px-30.png
END:VEVENT
BEGIN:VEVENT
DTSTART;TZID=America/Chicago:20260803T160000
DTEND;TZID=America/Chicago:20260803T180000
DTSTAMP:20260421T202407
CREATED:20260105T174550Z
LAST-MODIFIED:20260105T174550Z
UID:10003120-1785772800-1785780000@superiorlibrary.org
SUMMARY:Lego Club
DESCRIPTION:Join us at Superior Public Library every Monday from 4-6 p.m. for our Lego Club and make something AMAZING using our huge collection of Legos! Perfect for ages 3-12.
URL:https://superiorlibrary.org/event/lego-club/2026-08-03/
LOCATION:Superior Public Library\, 1530 Tower Ave.\, Superior\, WI\, 54880\, United States
CATEGORIES:Community Event,In-Person Event,Youth Services
ATTACH;FMTTYPE=image/png:https://superiorlibrary.org/2019/wp-content/uploads/2022/05/Blue-Illustration-Happy-International-Lego-Day-Instagram-Post.png
END:VEVENT
BEGIN:VEVENT
DTSTART;TZID=America/Chicago:20260803T180000
DTEND;TZID=America/Chicago:20260803T190000
DTSTAMP:20260421T202407
CREATED:20251201T154029Z
LAST-MODIFIED:20260317T180443Z
UID:10003497-1785780000-1785783600@superiorlibrary.org
SUMMARY:Tween & Teen Writing Club
DESCRIPTION:Are you a tween or teen who loves writing? Join us at the library for our Tween & Teen Writing Club on Mondays from 6-7 p.m. and enjoy writing/brainstorming games\, short lessons on effective writing skills\, and plenty of time to share your writing. This group is led by writer/educator Karen Christian and no registration is required!\n\n\n**There will be NO writing club on Monday\, December 29.**
URL:https://superiorlibrary.org/event/tween-teen-writing-club/2026-08-03/
LOCATION:Superior Public Library\, 1530 Tower Ave.\, Superior\, WI\, 54880\, United States
CATEGORIES:Community Event,In-Person Event,Meetings,Teen Event,Youth Services
ATTACH;FMTTYPE=image/png:https://superiorlibrary.org/2019/wp-content/uploads/2025/09/Your-paragraph-text-1080-x-1080-px-30.png
END:VEVENT
BEGIN:VEVENT
DTSTART;TZID=America/Chicago:20260810T160000
DTEND;TZID=America/Chicago:20260810T180000
DTSTAMP:20260421T202407
CREATED:20260105T174550Z
LAST-MODIFIED:20260105T174550Z
UID:10003121-1786377600-1786384800@superiorlibrary.org
SUMMARY:Lego Club
DESCRIPTION:Join us at Superior Public Library every Monday from 4-6 p.m. for our Lego Club and make something AMAZING using our huge collection of Legos! Perfect for ages 3-12.
URL:https://superiorlibrary.org/event/lego-club/2026-08-10/
LOCATION:Superior Public Library\, 1530 Tower Ave.\, Superior\, WI\, 54880\, United States
CATEGORIES:Community Event,In-Person Event,Youth Services
ATTACH;FMTTYPE=image/png:https://superiorlibrary.org/2019/wp-content/uploads/2022/05/Blue-Illustration-Happy-International-Lego-Day-Instagram-Post.png
END:VEVENT
BEGIN:VEVENT
DTSTART;TZID=America/Chicago:20260810T180000
DTEND;TZID=America/Chicago:20260810T190000
DTSTAMP:20260421T202407
CREATED:20251201T154029Z
LAST-MODIFIED:20260317T180443Z
UID:10003498-1786384800-1786388400@superiorlibrary.org
SUMMARY:Tween & Teen Writing Club
DESCRIPTION:Are you a tween or teen who loves writing? Join us at the library for our Tween & Teen Writing Club on Mondays from 6-7 p.m. and enjoy writing/brainstorming games\, short lessons on effective writing skills\, and plenty of time to share your writing. This group is led by writer/educator Karen Christian and no registration is required!\n\n\n**There will be NO writing club on Monday\, December 29.**
URL:https://superiorlibrary.org/event/tween-teen-writing-club/2026-08-10/
LOCATION:Superior Public Library\, 1530 Tower Ave.\, Superior\, WI\, 54880\, United States
CATEGORIES:Community Event,In-Person Event,Meetings,Teen Event,Youth Services
ATTACH;FMTTYPE=image/png:https://superiorlibrary.org/2019/wp-content/uploads/2025/09/Your-paragraph-text-1080-x-1080-px-30.png
END:VEVENT
BEGIN:VEVENT
DTSTART;TZID=America/Chicago:20260817T160000
DTEND;TZID=America/Chicago:20260817T180000
DTSTAMP:20260421T202407
CREATED:20260105T174550Z
LAST-MODIFIED:20260105T174550Z
UID:10003122-1786982400-1786989600@superiorlibrary.org
SUMMARY:Lego Club
DESCRIPTION:Join us at Superior Public Library every Monday from 4-6 p.m. for our Lego Club and make something AMAZING using our huge collection of Legos! Perfect for ages 3-12.
URL:https://superiorlibrary.org/event/lego-club/2026-08-17/
LOCATION:Superior Public Library\, 1530 Tower Ave.\, Superior\, WI\, 54880\, United States
CATEGORIES:Community Event,In-Person Event,Youth Services
ATTACH;FMTTYPE=image/png:https://superiorlibrary.org/2019/wp-content/uploads/2022/05/Blue-Illustration-Happy-International-Lego-Day-Instagram-Post.png
END:VEVENT
BEGIN:VEVENT
DTSTART;TZID=America/Chicago:20260817T180000
DTEND;TZID=America/Chicago:20260817T190000
DTSTAMP:20260421T202407
CREATED:20251201T154029Z
LAST-MODIFIED:20260317T180443Z
UID:10003499-1786989600-1786993200@superiorlibrary.org
SUMMARY:Tween & Teen Writing Club
DESCRIPTION:Are you a tween or teen who loves writing? Join us at the library for our Tween & Teen Writing Club on Mondays from 6-7 p.m. and enjoy writing/brainstorming games\, short lessons on effective writing skills\, and plenty of time to share your writing. This group is led by writer/educator Karen Christian and no registration is required!\n\n\n**There will be NO writing club on Monday\, December 29.**
URL:https://superiorlibrary.org/event/tween-teen-writing-club/2026-08-17/
LOCATION:Superior Public Library\, 1530 Tower Ave.\, Superior\, WI\, 54880\, United States
CATEGORIES:Community Event,In-Person Event,Meetings,Teen Event,Youth Services
ATTACH;FMTTYPE=image/png:https://superiorlibrary.org/2019/wp-content/uploads/2025/09/Your-paragraph-text-1080-x-1080-px-30.png
END:VEVENT
BEGIN:VEVENT
DTSTART;TZID=America/Chicago:20260824T160000
DTEND;TZID=America/Chicago:20260824T180000
DTSTAMP:20260421T202407
CREATED:20260105T174550Z
LAST-MODIFIED:20260105T174550Z
UID:10003123-1787587200-1787594400@superiorlibrary.org
SUMMARY:Lego Club
DESCRIPTION:Join us at Superior Public Library every Monday from 4-6 p.m. for our Lego Club and make something AMAZING using our huge collection of Legos! Perfect for ages 3-12.
URL:https://superiorlibrary.org/event/lego-club/2026-08-24/
LOCATION:Superior Public Library\, 1530 Tower Ave.\, Superior\, WI\, 54880\, United States
CATEGORIES:Community Event,In-Person Event,Youth Services
ATTACH;FMTTYPE=image/png:https://superiorlibrary.org/2019/wp-content/uploads/2022/05/Blue-Illustration-Happy-International-Lego-Day-Instagram-Post.png
END:VEVENT
BEGIN:VEVENT
DTSTART;TZID=America/Chicago:20260824T180000
DTEND;TZID=America/Chicago:20260824T190000
DTSTAMP:20260421T202407
CREATED:20251201T154029Z
LAST-MODIFIED:20260317T180443Z
UID:10003500-1787594400-1787598000@superiorlibrary.org
SUMMARY:Tween & Teen Writing Club
DESCRIPTION:Are you a tween or teen who loves writing? Join us at the library for our Tween & Teen Writing Club on Mondays from 6-7 p.m. and enjoy writing/brainstorming games\, short lessons on effective writing skills\, and plenty of time to share your writing. This group is led by writer/educator Karen Christian and no registration is required!\n\n\n**There will be NO writing club on Monday\, December 29.**
URL:https://superiorlibrary.org/event/tween-teen-writing-club/2026-08-24/
LOCATION:Superior Public Library\, 1530 Tower Ave.\, Superior\, WI\, 54880\, United States
CATEGORIES:Community Event,In-Person Event,Meetings,Teen Event,Youth Services
ATTACH;FMTTYPE=image/png:https://superiorlibrary.org/2019/wp-content/uploads/2025/09/Your-paragraph-text-1080-x-1080-px-30.png
END:VEVENT
BEGIN:VEVENT
DTSTART;TZID=America/Chicago:20260831T160000
DTEND;TZID=America/Chicago:20260831T180000
DTSTAMP:20260421T202407
CREATED:20260105T174550Z
LAST-MODIFIED:20260105T174550Z
UID:10003124-1788192000-1788199200@superiorlibrary.org
SUMMARY:Lego Club
DESCRIPTION:Join us at Superior Public Library every Monday from 4-6 p.m. for our Lego Club and make something AMAZING using our huge collection of Legos! Perfect for ages 3-12.
URL:https://superiorlibrary.org/event/lego-club/2026-08-31/
LOCATION:Superior Public Library\, 1530 Tower Ave.\, Superior\, WI\, 54880\, United States
CATEGORIES:Community Event,In-Person Event,Youth Services
ATTACH;FMTTYPE=image/png:https://superiorlibrary.org/2019/wp-content/uploads/2022/05/Blue-Illustration-Happy-International-Lego-Day-Instagram-Post.png
END:VEVENT
BEGIN:VEVENT
DTSTART;TZID=America/Chicago:20260831T180000
DTEND;TZID=America/Chicago:20260831T190000
DTSTAMP:20260421T202407
CREATED:20251201T154029Z
LAST-MODIFIED:20260317T180443Z
UID:10003501-1788199200-1788202800@superiorlibrary.org
SUMMARY:Tween & Teen Writing Club
DESCRIPTION:Are you a tween or teen who loves writing? Join us at the library for our Tween & Teen Writing Club on Mondays from 6-7 p.m. and enjoy writing/brainstorming games\, short lessons on effective writing skills\, and plenty of time to share your writing. This group is led by writer/educator Karen Christian and no registration is required!\n\n\n**There will be NO writing club on Monday\, December 29.**
URL:https://superiorlibrary.org/event/tween-teen-writing-club/2026-08-31/
LOCATION:Superior Public Library\, 1530 Tower Ave.\, Superior\, WI\, 54880\, United States
CATEGORIES:Community Event,In-Person Event,Meetings,Teen Event,Youth Services
ATTACH;FMTTYPE=image/png:https://superiorlibrary.org/2019/wp-content/uploads/2025/09/Your-paragraph-text-1080-x-1080-px-30.png
END:VEVENT
BEGIN:VEVENT
DTSTART;TZID=America/Chicago:20260914T160000
DTEND;TZID=America/Chicago:20260914T180000
DTSTAMP:20260421T202407
CREATED:20260105T174550Z
LAST-MODIFIED:20260105T174550Z
UID:10003125-1789401600-1789408800@superiorlibrary.org
SUMMARY:Lego Club
DESCRIPTION:Join us at Superior Public Library every Monday from 4-6 p.m. for our Lego Club and make something AMAZING using our huge collection of Legos! Perfect for ages 3-12.
URL:https://superiorlibrary.org/event/lego-club/2026-09-14/
LOCATION:Superior Public Library\, 1530 Tower Ave.\, Superior\, WI\, 54880\, United States
CATEGORIES:Community Event,In-Person Event,Youth Services
ATTACH;FMTTYPE=image/png:https://superiorlibrary.org/2019/wp-content/uploads/2022/05/Blue-Illustration-Happy-International-Lego-Day-Instagram-Post.png
END:VEVENT
BEGIN:VEVENT
DTSTART;TZID=America/Chicago:20260914T180000
DTEND;TZID=America/Chicago:20260914T190000
DTSTAMP:20260421T202407
CREATED:20251201T154029Z
LAST-MODIFIED:20260317T180443Z
UID:10003502-1789408800-1789412400@superiorlibrary.org
SUMMARY:Tween & Teen Writing Club
DESCRIPTION:Are you a tween or teen who loves writing? Join us at the library for our Tween & Teen Writing Club on Mondays from 6-7 p.m. and enjoy writing/brainstorming games\, short lessons on effective writing skills\, and plenty of time to share your writing. This group is led by writer/educator Karen Christian and no registration is required!\n\n\n**There will be NO writing club on Monday\, December 29.**
URL:https://superiorlibrary.org/event/tween-teen-writing-club/2026-09-14/
LOCATION:Superior Public Library\, 1530 Tower Ave.\, Superior\, WI\, 54880\, United States
CATEGORIES:Community Event,In-Person Event,Meetings,Teen Event,Youth Services
ATTACH;FMTTYPE=image/png:https://superiorlibrary.org/2019/wp-content/uploads/2025/09/Your-paragraph-text-1080-x-1080-px-30.png
END:VEVENT
BEGIN:VEVENT
DTSTART;TZID=America/Chicago:20260921T160000
DTEND;TZID=America/Chicago:20260921T180000
DTSTAMP:20260421T202407
CREATED:20260105T174550Z
LAST-MODIFIED:20260105T174550Z
UID:10003126-1790006400-1790013600@superiorlibrary.org
SUMMARY:Lego Club
DESCRIPTION:Join us at Superior Public Library every Monday from 4-6 p.m. for our Lego Club and make something AMAZING using our huge collection of Legos! Perfect for ages 3-12.
URL:https://superiorlibrary.org/event/lego-club/2026-09-21/
LOCATION:Superior Public Library\, 1530 Tower Ave.\, Superior\, WI\, 54880\, United States
CATEGORIES:Community Event,In-Person Event,Youth Services
ATTACH;FMTTYPE=image/png:https://superiorlibrary.org/2019/wp-content/uploads/2022/05/Blue-Illustration-Happy-International-Lego-Day-Instagram-Post.png
END:VEVENT
BEGIN:VEVENT
DTSTART;TZID=America/Chicago:20260921T180000
DTEND;TZID=America/Chicago:20260921T190000
DTSTAMP:20260421T202407
CREATED:20251201T154029Z
LAST-MODIFIED:20260317T180443Z
UID:10003503-1790013600-1790017200@superiorlibrary.org
SUMMARY:Tween & Teen Writing Club
DESCRIPTION:Are you a tween or teen who loves writing? Join us at the library for our Tween & Teen Writing Club on Mondays from 6-7 p.m. and enjoy writing/brainstorming games\, short lessons on effective writing skills\, and plenty of time to share your writing. This group is led by writer/educator Karen Christian and no registration is required!\n\n\n**There will be NO writing club on Monday\, December 29.**
URL:https://superiorlibrary.org/event/tween-teen-writing-club/2026-09-21/
LOCATION:Superior Public Library\, 1530 Tower Ave.\, Superior\, WI\, 54880\, United States
CATEGORIES:Community Event,In-Person Event,Meetings,Teen Event,Youth Services
ATTACH;FMTTYPE=image/png:https://superiorlibrary.org/2019/wp-content/uploads/2025/09/Your-paragraph-text-1080-x-1080-px-30.png
END:VEVENT
BEGIN:VEVENT
DTSTART;TZID=America/Chicago:20260928T160000
DTEND;TZID=America/Chicago:20260928T180000
DTSTAMP:20260421T202407
CREATED:20260105T174550Z
LAST-MODIFIED:20260105T174550Z
UID:10003127-1790611200-1790618400@superiorlibrary.org
SUMMARY:Lego Club
DESCRIPTION:Join us at Superior Public Library every Monday from 4-6 p.m. for our Lego Club and make something AMAZING using our huge collection of Legos! Perfect for ages 3-12.
URL:https://superiorlibrary.org/event/lego-club/2026-09-28/
LOCATION:Superior Public Library\, 1530 Tower Ave.\, Superior\, WI\, 54880\, United States
CATEGORIES:Community Event,In-Person Event,Youth Services
ATTACH;FMTTYPE=image/png:https://superiorlibrary.org/2019/wp-content/uploads/2022/05/Blue-Illustration-Happy-International-Lego-Day-Instagram-Post.png
END:VEVENT
BEGIN:VEVENT
DTSTART;TZID=America/Chicago:20260928T180000
DTEND;TZID=America/Chicago:20260928T190000
DTSTAMP:20260421T202407
CREATED:20251201T154029Z
LAST-MODIFIED:20260317T180443Z
UID:10003504-1790618400-1790622000@superiorlibrary.org
SUMMARY:Tween & Teen Writing Club
DESCRIPTION:Are you a tween or teen who loves writing? Join us at the library for our Tween & Teen Writing Club on Mondays from 6-7 p.m. and enjoy writing/brainstorming games\, short lessons on effective writing skills\, and plenty of time to share your writing. This group is led by writer/educator Karen Christian and no registration is required!\n\n\n**There will be NO writing club on Monday\, December 29.**
URL:https://superiorlibrary.org/event/tween-teen-writing-club/2026-09-28/
LOCATION:Superior Public Library\, 1530 Tower Ave.\, Superior\, WI\, 54880\, United States
CATEGORIES:Community Event,In-Person Event,Meetings,Teen Event,Youth Services
ATTACH;FMTTYPE=image/png:https://superiorlibrary.org/2019/wp-content/uploads/2025/09/Your-paragraph-text-1080-x-1080-px-30.png
END:VEVENT
BEGIN:VEVENT
DTSTART;TZID=America/Chicago:20261005T160000
DTEND;TZID=America/Chicago:20261005T180000
DTSTAMP:20260421T202407
CREATED:20260105T174550Z
LAST-MODIFIED:20260105T174550Z
UID:10003128-1791216000-1791223200@superiorlibrary.org
SUMMARY:Lego Club
DESCRIPTION:Join us at Superior Public Library every Monday from 4-6 p.m. for our Lego Club and make something AMAZING using our huge collection of Legos! Perfect for ages 3-12.
URL:https://superiorlibrary.org/event/lego-club/2026-10-05/
LOCATION:Superior Public Library\, 1530 Tower Ave.\, Superior\, WI\, 54880\, United States
CATEGORIES:Community Event,In-Person Event,Youth Services
ATTACH;FMTTYPE=image/png:https://superiorlibrary.org/2019/wp-content/uploads/2022/05/Blue-Illustration-Happy-International-Lego-Day-Instagram-Post.png
END:VEVENT
BEGIN:VEVENT
DTSTART;TZID=America/Chicago:20261005T180000
DTEND;TZID=America/Chicago:20261005T190000
DTSTAMP:20260421T202407
CREATED:20251201T154029Z
LAST-MODIFIED:20260317T180443Z
UID:10003505-1791223200-1791226800@superiorlibrary.org
SUMMARY:Tween & Teen Writing Club
DESCRIPTION:Are you a tween or teen who loves writing? Join us at the library for our Tween & Teen Writing Club on Mondays from 6-7 p.m. and enjoy writing/brainstorming games\, short lessons on effective writing skills\, and plenty of time to share your writing. This group is led by writer/educator Karen Christian and no registration is required!\n\n\n**There will be NO writing club on Monday\, December 29.**
URL:https://superiorlibrary.org/event/tween-teen-writing-club/2026-10-05/
LOCATION:Superior Public Library\, 1530 Tower Ave.\, Superior\, WI\, 54880\, United States
CATEGORIES:Community Event,In-Person Event,Meetings,Teen Event,Youth Services
ATTACH;FMTTYPE=image/png:https://superiorlibrary.org/2019/wp-content/uploads/2025/09/Your-paragraph-text-1080-x-1080-px-30.png
END:VEVENT
BEGIN:VEVENT
DTSTART;TZID=America/Chicago:20261012T160000
DTEND;TZID=America/Chicago:20261012T180000
DTSTAMP:20260421T202407
CREATED:20260105T174550Z
LAST-MODIFIED:20260105T174550Z
UID:10003129-1791820800-1791828000@superiorlibrary.org
SUMMARY:Lego Club
DESCRIPTION:Join us at Superior Public Library every Monday from 4-6 p.m. for our Lego Club and make something AMAZING using our huge collection of Legos! Perfect for ages 3-12.
URL:https://superiorlibrary.org/event/lego-club/2026-10-12/
LOCATION:Superior Public Library\, 1530 Tower Ave.\, Superior\, WI\, 54880\, United States
CATEGORIES:Community Event,In-Person Event,Youth Services
ATTACH;FMTTYPE=image/png:https://superiorlibrary.org/2019/wp-content/uploads/2022/05/Blue-Illustration-Happy-International-Lego-Day-Instagram-Post.png
END:VEVENT
BEGIN:VEVENT
DTSTART;TZID=America/Chicago:20261012T180000
DTEND;TZID=America/Chicago:20261012T190000
DTSTAMP:20260421T202407
CREATED:20251201T154029Z
LAST-MODIFIED:20260317T180443Z
UID:10003506-1791828000-1791831600@superiorlibrary.org
SUMMARY:Tween & Teen Writing Club
DESCRIPTION:Are you a tween or teen who loves writing? Join us at the library for our Tween & Teen Writing Club on Mondays from 6-7 p.m. and enjoy writing/brainstorming games\, short lessons on effective writing skills\, and plenty of time to share your writing. This group is led by writer/educator Karen Christian and no registration is required!\n\n\n**There will be NO writing club on Monday\, December 29.**
URL:https://superiorlibrary.org/event/tween-teen-writing-club/2026-10-12/
LOCATION:Superior Public Library\, 1530 Tower Ave.\, Superior\, WI\, 54880\, United States
CATEGORIES:Community Event,In-Person Event,Meetings,Teen Event,Youth Services
ATTACH;FMTTYPE=image/png:https://superiorlibrary.org/2019/wp-content/uploads/2025/09/Your-paragraph-text-1080-x-1080-px-30.png
END:VEVENT
BEGIN:VEVENT
DTSTART;TZID=America/Chicago:20261019T160000
DTEND;TZID=America/Chicago:20261019T180000
DTSTAMP:20260421T202407
CREATED:20260105T174550Z
LAST-MODIFIED:20260105T174550Z
UID:10003130-1792425600-1792432800@superiorlibrary.org
SUMMARY:Lego Club
DESCRIPTION:Join us at Superior Public Library every Monday from 4-6 p.m. for our Lego Club and make something AMAZING using our huge collection of Legos! Perfect for ages 3-12.
URL:https://superiorlibrary.org/event/lego-club/2026-10-19/
LOCATION:Superior Public Library\, 1530 Tower Ave.\, Superior\, WI\, 54880\, United States
CATEGORIES:Community Event,In-Person Event,Youth Services
ATTACH;FMTTYPE=image/png:https://superiorlibrary.org/2019/wp-content/uploads/2022/05/Blue-Illustration-Happy-International-Lego-Day-Instagram-Post.png
END:VEVENT
END:VCALENDAR