BEGIN:VCALENDAR
VERSION:2.0
PRODID:-//Superior Public Library - ECPv6.15.20//NONSGML v1.0//EN
CALSCALE:GREGORIAN
METHOD:PUBLISH
X-WR-CALNAME:Superior Public Library
X-ORIGINAL-URL:https://superiorlibrary.org
X-WR-CALDESC:Events for Superior Public Library
REFRESH-INTERVAL;VALUE=DURATION:PT1H
X-Robots-Tag:noindex
X-PUBLISHED-TTL:PT1H
BEGIN:VTIMEZONE
TZID:America/Chicago
BEGIN:DAYLIGHT
TZOFFSETFROM:-0600
TZOFFSETTO:-0500
TZNAME:CDT
DTSTART:20250309T080000
END:DAYLIGHT
BEGIN:STANDARD
TZOFFSETFROM:-0500
TZOFFSETTO:-0600
TZNAME:CST
DTSTART:20251102T070000
END:STANDARD
BEGIN:DAYLIGHT
TZOFFSETFROM:-0600
TZOFFSETTO:-0500
TZNAME:CDT
DTSTART:20260308T080000
END:DAYLIGHT
BEGIN:STANDARD
TZOFFSETFROM:-0500
TZOFFSETTO:-0600
TZNAME:CST
DTSTART:20261101T070000
END:STANDARD
BEGIN:DAYLIGHT
TZOFFSETFROM:-0600
TZOFFSETTO:-0500
TZNAME:CDT
DTSTART:20270314T080000
END:DAYLIGHT
BEGIN:STANDARD
TZOFFSETFROM:-0500
TZOFFSETTO:-0600
TZNAME:CST
DTSTART:20271107T070000
END:STANDARD
END:VTIMEZONE
BEGIN:VEVENT
DTSTART;TZID=America/Chicago:20260427T160000
DTEND;TZID=America/Chicago:20260427T180000
DTSTAMP:20260421T174922
CREATED:20260105T174550Z
LAST-MODIFIED:20260105T174550Z
UID:10003107-1777305600-1777312800@superiorlibrary.org
SUMMARY:Lego Club
DESCRIPTION:Join us at Superior Public Library every Monday from 4-6 p.m. for our Lego Club and make something AMAZING using our huge collection of Legos! Perfect for ages 3-12.
URL:https://superiorlibrary.org/event/lego-club/2026-04-27/
LOCATION:Superior Public Library\, 1530 Tower Ave.\, Superior\, WI\, 54880\, United States
CATEGORIES:Community Event,In-Person Event,Youth Services
ATTACH;FMTTYPE=image/png:https://superiorlibrary.org/2019/wp-content/uploads/2022/05/Blue-Illustration-Happy-International-Lego-Day-Instagram-Post.png
END:VEVENT
BEGIN:VEVENT
DTSTART;TZID=America/Chicago:20260427T180000
DTEND;TZID=America/Chicago:20260427T190000
DTSTAMP:20260421T174922
CREATED:20251201T154029Z
LAST-MODIFIED:20260317T180443Z
UID:10003484-1777312800-1777316400@superiorlibrary.org
SUMMARY:Tween & Teen Writing Club
DESCRIPTION:Are you a tween or teen who loves writing? Join us at the library for our Tween & Teen Writing Club on Mondays from 6-7 p.m. and enjoy writing/brainstorming games\, short lessons on effective writing skills\, and plenty of time to share your writing. This group is led by writer/educator Karen Christian and no registration is required!\n\n\n**There will be NO writing club on Monday\, December 29.**
URL:https://superiorlibrary.org/event/tween-teen-writing-club/2026-04-27/
LOCATION:Superior Public Library\, 1530 Tower Ave.\, Superior\, WI\, 54880\, United States
CATEGORIES:Community Event,In-Person Event,Meetings,Teen Event,Youth Services
ATTACH;FMTTYPE=image/png:https://superiorlibrary.org/2019/wp-content/uploads/2025/09/Your-paragraph-text-1080-x-1080-px-30.png
END:VEVENT
BEGIN:VEVENT
DTSTART;TZID=America/Chicago:20260428T103000
DTEND;TZID=America/Chicago:20260428T113000
DTSTAMP:20260421T174922
CREATED:20260106T010813Z
LAST-MODIFIED:20260223T185457Z
UID:10003263-1777372200-1777375800@superiorlibrary.org
SUMMARY:Storytime at the Library
DESCRIPTION:Come to library storytime on Tuesdays at 10:30 a.m. and enjoy stories\, songs\, crafts\, and FUN with your little one! \nThere will be NO Storytime on Tuesday\, March 10. \nStorytime is a GREAT activity for your child! It promotes early literacy and language development\, helps develop social and communication skills\, and encourages imagination and creativity while also building their appreciation for books! It’s also a great way to bond with your little one!
URL:https://superiorlibrary.org/event/storytime-at-the-library/2026-04-28/
LOCATION:Superior Public Library\, 1530 Tower Ave.\, Superior\, WI\, 54880\, United States
CATEGORIES:Community Event,In-Person Event,Youth Services
ATTACH;FMTTYPE=image/jpeg:https://superiorlibrary.org/2019/wp-content/uploads/2026/01/Storytime-Instagram-Post-1.jpg
END:VEVENT
BEGIN:VEVENT
DTSTART;TZID=America/Chicago:20260429T160000
DTEND;TZID=America/Chicago:20260429T170000
DTSTAMP:20260421T174922
CREATED:20260415T181142Z
LAST-MODIFIED:20260415T181142Z
UID:10003559-1777478400-1777482000@superiorlibrary.org
SUMMARY:Read to a Reptile
DESCRIPTION:Join us April 23 from 5:30-7 p.m. or April 29 from 4-5 p.m. for Read to a Reptile with Sarah Glesner of Sarah’s Serpentarium! Every month\, Sarah brings a special reptile guest from her serpentarium and children have the opportunity to sign up for a time slot and practice reading aloud to them! This is a great way for kids to improve their reading skills! Sign up by emailing wiisanenk@superiorlibrary.org.
URL:https://superiorlibrary.org/event/read-to-a-reptile-7/2026-04-29/
LOCATION:Superior Public Library\, 1530 Tower Ave.\, Superior\, WI\, 54880\, United States
CATEGORIES:Community Event,In-Person Event,Youth Services
ATTACH;FMTTYPE=image/jpeg:https://superiorlibrary.org/2019/wp-content/uploads/2026/04/Read-to-a-Reptile-for-Facebook-Instagram-Post-25.jpg
END:VEVENT
BEGIN:VEVENT
DTSTART;TZID=America/Chicago:20260504T160000
DTEND;TZID=America/Chicago:20260504T180000
DTSTAMP:20260421T174922
CREATED:20260105T174550Z
LAST-MODIFIED:20260105T174550Z
UID:10003108-1777910400-1777917600@superiorlibrary.org
SUMMARY:Lego Club
DESCRIPTION:Join us at Superior Public Library every Monday from 4-6 p.m. for our Lego Club and make something AMAZING using our huge collection of Legos! Perfect for ages 3-12.
URL:https://superiorlibrary.org/event/lego-club/2026-05-04/
LOCATION:Superior Public Library\, 1530 Tower Ave.\, Superior\, WI\, 54880\, United States
CATEGORIES:Community Event,In-Person Event,Youth Services
ATTACH;FMTTYPE=image/png:https://superiorlibrary.org/2019/wp-content/uploads/2022/05/Blue-Illustration-Happy-International-Lego-Day-Instagram-Post.png
END:VEVENT
BEGIN:VEVENT
DTSTART;TZID=America/Chicago:20260504T180000
DTEND;TZID=America/Chicago:20260504T190000
DTSTAMP:20260421T174922
CREATED:20251201T154029Z
LAST-MODIFIED:20260317T180443Z
UID:10003485-1777917600-1777921200@superiorlibrary.org
SUMMARY:Tween & Teen Writing Club
DESCRIPTION:Are you a tween or teen who loves writing? Join us at the library for our Tween & Teen Writing Club on Mondays from 6-7 p.m. and enjoy writing/brainstorming games\, short lessons on effective writing skills\, and plenty of time to share your writing. This group is led by writer/educator Karen Christian and no registration is required!\n\n\n**There will be NO writing club on Monday\, December 29.**
URL:https://superiorlibrary.org/event/tween-teen-writing-club/2026-05-04/
LOCATION:Superior Public Library\, 1530 Tower Ave.\, Superior\, WI\, 54880\, United States
CATEGORIES:Community Event,In-Person Event,Meetings,Teen Event,Youth Services
ATTACH;FMTTYPE=image/png:https://superiorlibrary.org/2019/wp-content/uploads/2025/09/Your-paragraph-text-1080-x-1080-px-30.png
END:VEVENT
BEGIN:VEVENT
DTSTART;TZID=America/Chicago:20260505T103000
DTEND;TZID=America/Chicago:20260505T113000
DTSTAMP:20260421T174922
CREATED:20260106T010813Z
LAST-MODIFIED:20260223T185457Z
UID:10003264-1777977000-1777980600@superiorlibrary.org
SUMMARY:Storytime at the Library
DESCRIPTION:Come to library storytime on Tuesdays at 10:30 a.m. and enjoy stories\, songs\, crafts\, and FUN with your little one! \nThere will be NO Storytime on Tuesday\, March 10. \nStorytime is a GREAT activity for your child! It promotes early literacy and language development\, helps develop social and communication skills\, and encourages imagination and creativity while also building their appreciation for books! It’s also a great way to bond with your little one!
URL:https://superiorlibrary.org/event/storytime-at-the-library/2026-05-05/
LOCATION:Superior Public Library\, 1530 Tower Ave.\, Superior\, WI\, 54880\, United States
CATEGORIES:Community Event,In-Person Event,Youth Services
ATTACH;FMTTYPE=image/jpeg:https://superiorlibrary.org/2019/wp-content/uploads/2026/01/Storytime-Instagram-Post-1.jpg
END:VEVENT
BEGIN:VEVENT
DTSTART;TZID=America/Chicago:20260511T160000
DTEND;TZID=America/Chicago:20260511T180000
DTSTAMP:20260421T174922
CREATED:20260105T174550Z
LAST-MODIFIED:20260105T174550Z
UID:10003109-1778515200-1778522400@superiorlibrary.org
SUMMARY:Lego Club
DESCRIPTION:Join us at Superior Public Library every Monday from 4-6 p.m. for our Lego Club and make something AMAZING using our huge collection of Legos! Perfect for ages 3-12.
URL:https://superiorlibrary.org/event/lego-club/2026-05-11/
LOCATION:Superior Public Library\, 1530 Tower Ave.\, Superior\, WI\, 54880\, United States
CATEGORIES:Community Event,In-Person Event,Youth Services
ATTACH;FMTTYPE=image/png:https://superiorlibrary.org/2019/wp-content/uploads/2022/05/Blue-Illustration-Happy-International-Lego-Day-Instagram-Post.png
END:VEVENT
BEGIN:VEVENT
DTSTART;TZID=America/Chicago:20260511T180000
DTEND;TZID=America/Chicago:20260511T190000
DTSTAMP:20260421T174922
CREATED:20251201T154029Z
LAST-MODIFIED:20260317T180443Z
UID:10003486-1778522400-1778526000@superiorlibrary.org
SUMMARY:Tween & Teen Writing Club
DESCRIPTION:Are you a tween or teen who loves writing? Join us at the library for our Tween & Teen Writing Club on Mondays from 6-7 p.m. and enjoy writing/brainstorming games\, short lessons on effective writing skills\, and plenty of time to share your writing. This group is led by writer/educator Karen Christian and no registration is required!\n\n\n**There will be NO writing club on Monday\, December 29.**
URL:https://superiorlibrary.org/event/tween-teen-writing-club/2026-05-11/
LOCATION:Superior Public Library\, 1530 Tower Ave.\, Superior\, WI\, 54880\, United States
CATEGORIES:Community Event,In-Person Event,Meetings,Teen Event,Youth Services
ATTACH;FMTTYPE=image/png:https://superiorlibrary.org/2019/wp-content/uploads/2025/09/Your-paragraph-text-1080-x-1080-px-30.png
END:VEVENT
BEGIN:VEVENT
DTSTART;TZID=America/Chicago:20260518T160000
DTEND;TZID=America/Chicago:20260518T180000
DTSTAMP:20260421T174922
CREATED:20260105T174550Z
LAST-MODIFIED:20260105T174550Z
UID:10003110-1779120000-1779127200@superiorlibrary.org
SUMMARY:Lego Club
DESCRIPTION:Join us at Superior Public Library every Monday from 4-6 p.m. for our Lego Club and make something AMAZING using our huge collection of Legos! Perfect for ages 3-12.
URL:https://superiorlibrary.org/event/lego-club/2026-05-18/
LOCATION:Superior Public Library\, 1530 Tower Ave.\, Superior\, WI\, 54880\, United States
CATEGORIES:Community Event,In-Person Event,Youth Services
ATTACH;FMTTYPE=image/png:https://superiorlibrary.org/2019/wp-content/uploads/2022/05/Blue-Illustration-Happy-International-Lego-Day-Instagram-Post.png
END:VEVENT
BEGIN:VEVENT
DTSTART;TZID=America/Chicago:20260518T180000
DTEND;TZID=America/Chicago:20260518T190000
DTSTAMP:20260421T174922
CREATED:20251201T154029Z
LAST-MODIFIED:20260317T180443Z
UID:10003487-1779127200-1779130800@superiorlibrary.org
SUMMARY:Tween & Teen Writing Club
DESCRIPTION:Are you a tween or teen who loves writing? Join us at the library for our Tween & Teen Writing Club on Mondays from 6-7 p.m. and enjoy writing/brainstorming games\, short lessons on effective writing skills\, and plenty of time to share your writing. This group is led by writer/educator Karen Christian and no registration is required!\n\n\n**There will be NO writing club on Monday\, December 29.**
URL:https://superiorlibrary.org/event/tween-teen-writing-club/2026-05-18/
LOCATION:Superior Public Library\, 1530 Tower Ave.\, Superior\, WI\, 54880\, United States
CATEGORIES:Community Event,In-Person Event,Meetings,Teen Event,Youth Services
ATTACH;FMTTYPE=image/png:https://superiorlibrary.org/2019/wp-content/uploads/2025/09/Your-paragraph-text-1080-x-1080-px-30.png
END:VEVENT
BEGIN:VEVENT
DTSTART;TZID=America/Chicago:20260601T160000
DTEND;TZID=America/Chicago:20260601T180000
DTSTAMP:20260421T174922
CREATED:20260105T174550Z
LAST-MODIFIED:20260105T174550Z
UID:10003111-1780329600-1780336800@superiorlibrary.org
SUMMARY:Lego Club
DESCRIPTION:Join us at Superior Public Library every Monday from 4-6 p.m. for our Lego Club and make something AMAZING using our huge collection of Legos! Perfect for ages 3-12.
URL:https://superiorlibrary.org/event/lego-club/2026-06-01/
LOCATION:Superior Public Library\, 1530 Tower Ave.\, Superior\, WI\, 54880\, United States
CATEGORIES:Community Event,In-Person Event,Youth Services
ATTACH;FMTTYPE=image/png:https://superiorlibrary.org/2019/wp-content/uploads/2022/05/Blue-Illustration-Happy-International-Lego-Day-Instagram-Post.png
END:VEVENT
BEGIN:VEVENT
DTSTART;TZID=America/Chicago:20260601T180000
DTEND;TZID=America/Chicago:20260601T190000
DTSTAMP:20260421T174922
CREATED:20251201T154029Z
LAST-MODIFIED:20260317T180443Z
UID:10003488-1780336800-1780340400@superiorlibrary.org
SUMMARY:Tween & Teen Writing Club
DESCRIPTION:Are you a tween or teen who loves writing? Join us at the library for our Tween & Teen Writing Club on Mondays from 6-7 p.m. and enjoy writing/brainstorming games\, short lessons on effective writing skills\, and plenty of time to share your writing. This group is led by writer/educator Karen Christian and no registration is required!\n\n\n**There will be NO writing club on Monday\, December 29.**
URL:https://superiorlibrary.org/event/tween-teen-writing-club/2026-06-01/
LOCATION:Superior Public Library\, 1530 Tower Ave.\, Superior\, WI\, 54880\, United States
CATEGORIES:Community Event,In-Person Event,Meetings,Teen Event,Youth Services
ATTACH;FMTTYPE=image/png:https://superiorlibrary.org/2019/wp-content/uploads/2025/09/Your-paragraph-text-1080-x-1080-px-30.png
END:VEVENT
BEGIN:VEVENT
DTSTART;TZID=America/Chicago:20260608T160000
DTEND;TZID=America/Chicago:20260608T180000
DTSTAMP:20260421T174922
CREATED:20260105T174550Z
LAST-MODIFIED:20260105T174550Z
UID:10003112-1780934400-1780941600@superiorlibrary.org
SUMMARY:Lego Club
DESCRIPTION:Join us at Superior Public Library every Monday from 4-6 p.m. for our Lego Club and make something AMAZING using our huge collection of Legos! Perfect for ages 3-12.
URL:https://superiorlibrary.org/event/lego-club/2026-06-08/
LOCATION:Superior Public Library\, 1530 Tower Ave.\, Superior\, WI\, 54880\, United States
CATEGORIES:Community Event,In-Person Event,Youth Services
ATTACH;FMTTYPE=image/png:https://superiorlibrary.org/2019/wp-content/uploads/2022/05/Blue-Illustration-Happy-International-Lego-Day-Instagram-Post.png
END:VEVENT
BEGIN:VEVENT
DTSTART;TZID=America/Chicago:20260608T180000
DTEND;TZID=America/Chicago:20260608T190000
DTSTAMP:20260421T174922
CREATED:20251201T154029Z
LAST-MODIFIED:20260317T180443Z
UID:10003489-1780941600-1780945200@superiorlibrary.org
SUMMARY:Tween & Teen Writing Club
DESCRIPTION:Are you a tween or teen who loves writing? Join us at the library for our Tween & Teen Writing Club on Mondays from 6-7 p.m. and enjoy writing/brainstorming games\, short lessons on effective writing skills\, and plenty of time to share your writing. This group is led by writer/educator Karen Christian and no registration is required!\n\n\n**There will be NO writing club on Monday\, December 29.**
URL:https://superiorlibrary.org/event/tween-teen-writing-club/2026-06-08/
LOCATION:Superior Public Library\, 1530 Tower Ave.\, Superior\, WI\, 54880\, United States
CATEGORIES:Community Event,In-Person Event,Meetings,Teen Event,Youth Services
ATTACH;FMTTYPE=image/png:https://superiorlibrary.org/2019/wp-content/uploads/2025/09/Your-paragraph-text-1080-x-1080-px-30.png
END:VEVENT
BEGIN:VEVENT
DTSTART;TZID=America/Chicago:20260615T160000
DTEND;TZID=America/Chicago:20260615T180000
DTSTAMP:20260421T174922
CREATED:20260105T174550Z
LAST-MODIFIED:20260105T174550Z
UID:10003113-1781539200-1781546400@superiorlibrary.org
SUMMARY:Lego Club
DESCRIPTION:Join us at Superior Public Library every Monday from 4-6 p.m. for our Lego Club and make something AMAZING using our huge collection of Legos! Perfect for ages 3-12.
URL:https://superiorlibrary.org/event/lego-club/2026-06-15/
LOCATION:Superior Public Library\, 1530 Tower Ave.\, Superior\, WI\, 54880\, United States
CATEGORIES:Community Event,In-Person Event,Youth Services
ATTACH;FMTTYPE=image/png:https://superiorlibrary.org/2019/wp-content/uploads/2022/05/Blue-Illustration-Happy-International-Lego-Day-Instagram-Post.png
END:VEVENT
BEGIN:VEVENT
DTSTART;TZID=America/Chicago:20260615T180000
DTEND;TZID=America/Chicago:20260615T190000
DTSTAMP:20260421T174922
CREATED:20251201T154029Z
LAST-MODIFIED:20260317T180443Z
UID:10003490-1781546400-1781550000@superiorlibrary.org
SUMMARY:Tween & Teen Writing Club
DESCRIPTION:Are you a tween or teen who loves writing? Join us at the library for our Tween & Teen Writing Club on Mondays from 6-7 p.m. and enjoy writing/brainstorming games\, short lessons on effective writing skills\, and plenty of time to share your writing. This group is led by writer/educator Karen Christian and no registration is required!\n\n\n**There will be NO writing club on Monday\, December 29.**
URL:https://superiorlibrary.org/event/tween-teen-writing-club/2026-06-15/
LOCATION:Superior Public Library\, 1530 Tower Ave.\, Superior\, WI\, 54880\, United States
CATEGORIES:Community Event,In-Person Event,Meetings,Teen Event,Youth Services
ATTACH;FMTTYPE=image/png:https://superiorlibrary.org/2019/wp-content/uploads/2025/09/Your-paragraph-text-1080-x-1080-px-30.png
END:VEVENT
BEGIN:VEVENT
DTSTART;TZID=America/Chicago:20260622T160000
DTEND;TZID=America/Chicago:20260622T180000
DTSTAMP:20260421T174922
CREATED:20260105T174550Z
LAST-MODIFIED:20260105T174550Z
UID:10003114-1782144000-1782151200@superiorlibrary.org
SUMMARY:Lego Club
DESCRIPTION:Join us at Superior Public Library every Monday from 4-6 p.m. for our Lego Club and make something AMAZING using our huge collection of Legos! Perfect for ages 3-12.
URL:https://superiorlibrary.org/event/lego-club/2026-06-22/
LOCATION:Superior Public Library\, 1530 Tower Ave.\, Superior\, WI\, 54880\, United States
CATEGORIES:Community Event,In-Person Event,Youth Services
ATTACH;FMTTYPE=image/png:https://superiorlibrary.org/2019/wp-content/uploads/2022/05/Blue-Illustration-Happy-International-Lego-Day-Instagram-Post.png
END:VEVENT
BEGIN:VEVENT
DTSTART;TZID=America/Chicago:20260622T180000
DTEND;TZID=America/Chicago:20260622T190000
DTSTAMP:20260421T174922
CREATED:20251201T154029Z
LAST-MODIFIED:20260317T180443Z
UID:10003491-1782151200-1782154800@superiorlibrary.org
SUMMARY:Tween & Teen Writing Club
DESCRIPTION:Are you a tween or teen who loves writing? Join us at the library for our Tween & Teen Writing Club on Mondays from 6-7 p.m. and enjoy writing/brainstorming games\, short lessons on effective writing skills\, and plenty of time to share your writing. This group is led by writer/educator Karen Christian and no registration is required!\n\n\n**There will be NO writing club on Monday\, December 29.**
URL:https://superiorlibrary.org/event/tween-teen-writing-club/2026-06-22/
LOCATION:Superior Public Library\, 1530 Tower Ave.\, Superior\, WI\, 54880\, United States
CATEGORIES:Community Event,In-Person Event,Meetings,Teen Event,Youth Services
ATTACH;FMTTYPE=image/png:https://superiorlibrary.org/2019/wp-content/uploads/2025/09/Your-paragraph-text-1080-x-1080-px-30.png
END:VEVENT
BEGIN:VEVENT
DTSTART;TZID=America/Chicago:20260629T160000
DTEND;TZID=America/Chicago:20260629T180000
DTSTAMP:20260421T174922
CREATED:20260105T174550Z
LAST-MODIFIED:20260105T174550Z
UID:10003115-1782748800-1782756000@superiorlibrary.org
SUMMARY:Lego Club
DESCRIPTION:Join us at Superior Public Library every Monday from 4-6 p.m. for our Lego Club and make something AMAZING using our huge collection of Legos! Perfect for ages 3-12.
URL:https://superiorlibrary.org/event/lego-club/2026-06-29/
LOCATION:Superior Public Library\, 1530 Tower Ave.\, Superior\, WI\, 54880\, United States
CATEGORIES:Community Event,In-Person Event,Youth Services
ATTACH;FMTTYPE=image/png:https://superiorlibrary.org/2019/wp-content/uploads/2022/05/Blue-Illustration-Happy-International-Lego-Day-Instagram-Post.png
END:VEVENT
BEGIN:VEVENT
DTSTART;TZID=America/Chicago:20260629T180000
DTEND;TZID=America/Chicago:20260629T190000
DTSTAMP:20260421T174922
CREATED:20251201T154029Z
LAST-MODIFIED:20260317T180443Z
UID:10003492-1782756000-1782759600@superiorlibrary.org
SUMMARY:Tween & Teen Writing Club
DESCRIPTION:Are you a tween or teen who loves writing? Join us at the library for our Tween & Teen Writing Club on Mondays from 6-7 p.m. and enjoy writing/brainstorming games\, short lessons on effective writing skills\, and plenty of time to share your writing. This group is led by writer/educator Karen Christian and no registration is required!\n\n\n**There will be NO writing club on Monday\, December 29.**
URL:https://superiorlibrary.org/event/tween-teen-writing-club/2026-06-29/
LOCATION:Superior Public Library\, 1530 Tower Ave.\, Superior\, WI\, 54880\, United States
CATEGORIES:Community Event,In-Person Event,Meetings,Teen Event,Youth Services
ATTACH;FMTTYPE=image/png:https://superiorlibrary.org/2019/wp-content/uploads/2025/09/Your-paragraph-text-1080-x-1080-px-30.png
END:VEVENT
BEGIN:VEVENT
DTSTART;TZID=America/Chicago:20260706T160000
DTEND;TZID=America/Chicago:20260706T180000
DTSTAMP:20260421T174922
CREATED:20260105T174550Z
LAST-MODIFIED:20260105T174550Z
UID:10003116-1783353600-1783360800@superiorlibrary.org
SUMMARY:Lego Club
DESCRIPTION:Join us at Superior Public Library every Monday from 4-6 p.m. for our Lego Club and make something AMAZING using our huge collection of Legos! Perfect for ages 3-12.
URL:https://superiorlibrary.org/event/lego-club/2026-07-06/
LOCATION:Superior Public Library\, 1530 Tower Ave.\, Superior\, WI\, 54880\, United States
CATEGORIES:Community Event,In-Person Event,Youth Services
ATTACH;FMTTYPE=image/png:https://superiorlibrary.org/2019/wp-content/uploads/2022/05/Blue-Illustration-Happy-International-Lego-Day-Instagram-Post.png
END:VEVENT
BEGIN:VEVENT
DTSTART;TZID=America/Chicago:20260706T180000
DTEND;TZID=America/Chicago:20260706T190000
DTSTAMP:20260421T174922
CREATED:20251201T154029Z
LAST-MODIFIED:20260317T180443Z
UID:10003493-1783360800-1783364400@superiorlibrary.org
SUMMARY:Tween & Teen Writing Club
DESCRIPTION:Are you a tween or teen who loves writing? Join us at the library for our Tween & Teen Writing Club on Mondays from 6-7 p.m. and enjoy writing/brainstorming games\, short lessons on effective writing skills\, and plenty of time to share your writing. This group is led by writer/educator Karen Christian and no registration is required!\n\n\n**There will be NO writing club on Monday\, December 29.**
URL:https://superiorlibrary.org/event/tween-teen-writing-club/2026-07-06/
LOCATION:Superior Public Library\, 1530 Tower Ave.\, Superior\, WI\, 54880\, United States
CATEGORIES:Community Event,In-Person Event,Meetings,Teen Event,Youth Services
ATTACH;FMTTYPE=image/png:https://superiorlibrary.org/2019/wp-content/uploads/2025/09/Your-paragraph-text-1080-x-1080-px-30.png
END:VEVENT
BEGIN:VEVENT
DTSTART;TZID=America/Chicago:20260713T160000
DTEND;TZID=America/Chicago:20260713T180000
DTSTAMP:20260421T174922
CREATED:20260105T174550Z
LAST-MODIFIED:20260105T174550Z
UID:10003117-1783958400-1783965600@superiorlibrary.org
SUMMARY:Lego Club
DESCRIPTION:Join us at Superior Public Library every Monday from 4-6 p.m. for our Lego Club and make something AMAZING using our huge collection of Legos! Perfect for ages 3-12.
URL:https://superiorlibrary.org/event/lego-club/2026-07-13/
LOCATION:Superior Public Library\, 1530 Tower Ave.\, Superior\, WI\, 54880\, United States
CATEGORIES:Community Event,In-Person Event,Youth Services
ATTACH;FMTTYPE=image/png:https://superiorlibrary.org/2019/wp-content/uploads/2022/05/Blue-Illustration-Happy-International-Lego-Day-Instagram-Post.png
END:VEVENT
BEGIN:VEVENT
DTSTART;TZID=America/Chicago:20260713T180000
DTEND;TZID=America/Chicago:20260713T190000
DTSTAMP:20260421T174922
CREATED:20251201T154029Z
LAST-MODIFIED:20260317T180443Z
UID:10003494-1783965600-1783969200@superiorlibrary.org
SUMMARY:Tween & Teen Writing Club
DESCRIPTION:Are you a tween or teen who loves writing? Join us at the library for our Tween & Teen Writing Club on Mondays from 6-7 p.m. and enjoy writing/brainstorming games\, short lessons on effective writing skills\, and plenty of time to share your writing. This group is led by writer/educator Karen Christian and no registration is required!\n\n\n**There will be NO writing club on Monday\, December 29.**
URL:https://superiorlibrary.org/event/tween-teen-writing-club/2026-07-13/
LOCATION:Superior Public Library\, 1530 Tower Ave.\, Superior\, WI\, 54880\, United States
CATEGORIES:Community Event,In-Person Event,Meetings,Teen Event,Youth Services
ATTACH;FMTTYPE=image/png:https://superiorlibrary.org/2019/wp-content/uploads/2025/09/Your-paragraph-text-1080-x-1080-px-30.png
END:VEVENT
BEGIN:VEVENT
DTSTART;TZID=America/Chicago:20260720T160000
DTEND;TZID=America/Chicago:20260720T180000
DTSTAMP:20260421T174922
CREATED:20260105T174550Z
LAST-MODIFIED:20260105T174550Z
UID:10003118-1784563200-1784570400@superiorlibrary.org
SUMMARY:Lego Club
DESCRIPTION:Join us at Superior Public Library every Monday from 4-6 p.m. for our Lego Club and make something AMAZING using our huge collection of Legos! Perfect for ages 3-12.
URL:https://superiorlibrary.org/event/lego-club/2026-07-20/
LOCATION:Superior Public Library\, 1530 Tower Ave.\, Superior\, WI\, 54880\, United States
CATEGORIES:Community Event,In-Person Event,Youth Services
ATTACH;FMTTYPE=image/png:https://superiorlibrary.org/2019/wp-content/uploads/2022/05/Blue-Illustration-Happy-International-Lego-Day-Instagram-Post.png
END:VEVENT
BEGIN:VEVENT
DTSTART;TZID=America/Chicago:20260720T180000
DTEND;TZID=America/Chicago:20260720T190000
DTSTAMP:20260421T174922
CREATED:20251201T154029Z
LAST-MODIFIED:20260317T180443Z
UID:10003495-1784570400-1784574000@superiorlibrary.org
SUMMARY:Tween & Teen Writing Club
DESCRIPTION:Are you a tween or teen who loves writing? Join us at the library for our Tween & Teen Writing Club on Mondays from 6-7 p.m. and enjoy writing/brainstorming games\, short lessons on effective writing skills\, and plenty of time to share your writing. This group is led by writer/educator Karen Christian and no registration is required!\n\n\n**There will be NO writing club on Monday\, December 29.**
URL:https://superiorlibrary.org/event/tween-teen-writing-club/2026-07-20/
LOCATION:Superior Public Library\, 1530 Tower Ave.\, Superior\, WI\, 54880\, United States
CATEGORIES:Community Event,In-Person Event,Meetings,Teen Event,Youth Services
ATTACH;FMTTYPE=image/png:https://superiorlibrary.org/2019/wp-content/uploads/2025/09/Your-paragraph-text-1080-x-1080-px-30.png
END:VEVENT
BEGIN:VEVENT
DTSTART;TZID=America/Chicago:20260727T160000
DTEND;TZID=America/Chicago:20260727T180000
DTSTAMP:20260421T174922
CREATED:20260105T174550Z
LAST-MODIFIED:20260105T174550Z
UID:10003119-1785168000-1785175200@superiorlibrary.org
SUMMARY:Lego Club
DESCRIPTION:Join us at Superior Public Library every Monday from 4-6 p.m. for our Lego Club and make something AMAZING using our huge collection of Legos! Perfect for ages 3-12.
URL:https://superiorlibrary.org/event/lego-club/2026-07-27/
LOCATION:Superior Public Library\, 1530 Tower Ave.\, Superior\, WI\, 54880\, United States
CATEGORIES:Community Event,In-Person Event,Youth Services
ATTACH;FMTTYPE=image/png:https://superiorlibrary.org/2019/wp-content/uploads/2022/05/Blue-Illustration-Happy-International-Lego-Day-Instagram-Post.png
END:VEVENT
BEGIN:VEVENT
DTSTART;TZID=America/Chicago:20260727T180000
DTEND;TZID=America/Chicago:20260727T190000
DTSTAMP:20260421T174922
CREATED:20251201T154029Z
LAST-MODIFIED:20260317T180443Z
UID:10003496-1785175200-1785178800@superiorlibrary.org
SUMMARY:Tween & Teen Writing Club
DESCRIPTION:Are you a tween or teen who loves writing? Join us at the library for our Tween & Teen Writing Club on Mondays from 6-7 p.m. and enjoy writing/brainstorming games\, short lessons on effective writing skills\, and plenty of time to share your writing. This group is led by writer/educator Karen Christian and no registration is required!\n\n\n**There will be NO writing club on Monday\, December 29.**
URL:https://superiorlibrary.org/event/tween-teen-writing-club/2026-07-27/
LOCATION:Superior Public Library\, 1530 Tower Ave.\, Superior\, WI\, 54880\, United States
CATEGORIES:Community Event,In-Person Event,Meetings,Teen Event,Youth Services
ATTACH;FMTTYPE=image/png:https://superiorlibrary.org/2019/wp-content/uploads/2025/09/Your-paragraph-text-1080-x-1080-px-30.png
END:VEVENT
BEGIN:VEVENT
DTSTART;TZID=America/Chicago:20260803T160000
DTEND;TZID=America/Chicago:20260803T180000
DTSTAMP:20260421T174922
CREATED:20260105T174550Z
LAST-MODIFIED:20260105T174550Z
UID:10003120-1785772800-1785780000@superiorlibrary.org
SUMMARY:Lego Club
DESCRIPTION:Join us at Superior Public Library every Monday from 4-6 p.m. for our Lego Club and make something AMAZING using our huge collection of Legos! Perfect for ages 3-12.
URL:https://superiorlibrary.org/event/lego-club/2026-08-03/
LOCATION:Superior Public Library\, 1530 Tower Ave.\, Superior\, WI\, 54880\, United States
CATEGORIES:Community Event,In-Person Event,Youth Services
ATTACH;FMTTYPE=image/png:https://superiorlibrary.org/2019/wp-content/uploads/2022/05/Blue-Illustration-Happy-International-Lego-Day-Instagram-Post.png
END:VEVENT
END:VCALENDAR