BEGIN:VCALENDAR
VERSION:2.0
PRODID:-//Superior Public Library - ECPv6.15.20//NONSGML v1.0//EN
CALSCALE:GREGORIAN
METHOD:PUBLISH
X-WR-CALNAME:Superior Public Library
X-ORIGINAL-URL:https://superiorlibrary.org
X-WR-CALDESC:Events for Superior Public Library
REFRESH-INTERVAL;VALUE=DURATION:PT1H
X-Robots-Tag:noindex
X-PUBLISHED-TTL:PT1H
BEGIN:VTIMEZONE
TZID:America/Chicago
BEGIN:DAYLIGHT
TZOFFSETFROM:-0600
TZOFFSETTO:-0500
TZNAME:CDT
DTSTART:20240310T080000
END:DAYLIGHT
BEGIN:STANDARD
TZOFFSETFROM:-0500
TZOFFSETTO:-0600
TZNAME:CST
DTSTART:20241103T070000
END:STANDARD
BEGIN:DAYLIGHT
TZOFFSETFROM:-0600
TZOFFSETTO:-0500
TZNAME:CDT
DTSTART:20250309T080000
END:DAYLIGHT
BEGIN:STANDARD
TZOFFSETFROM:-0500
TZOFFSETTO:-0600
TZNAME:CST
DTSTART:20251102T070000
END:STANDARD
BEGIN:DAYLIGHT
TZOFFSETFROM:-0600
TZOFFSETTO:-0500
TZNAME:CDT
DTSTART:20260308T080000
END:DAYLIGHT
BEGIN:STANDARD
TZOFFSETFROM:-0500
TZOFFSETTO:-0600
TZNAME:CST
DTSTART:20261101T070000
END:STANDARD
END:VTIMEZONE
BEGIN:VEVENT
DTSTART;VALUE=DATE:20250407
DTEND;VALUE=DATE:20250903
DTSTAMP:20260421T172933
CREATED:20250512T203356Z
LAST-MODIFIED:20250512T203356Z
UID:10002809-1743984000-1756857599@superiorlibrary.org
SUMMARY:Northern Waters Library Passport Program
DESCRIPTION:Did you know that the oldest Dairy Queen in Wisconsin can be found in Lake Nebagamon? Or that Sayner is the birthplace of the snowmobile? Northern Wisconsin is full of history\, culture\, and natural splendor – and this spring and summer\, you can discover it all – with help from your local library! \nStop in at any Northern Waters library and pick up a passport. Make sure to bring your passport with you as you travel throughout northern Wisconsin this spring and summer and get a stamp at each library you visit. Collect 10 different stamps and you’ll be given an entry form to submit for a prize drawing! You could win one of three prize packages which include a $50 Visa gift card\, travel journal and pen\, DeLorme Wisconsin atlas and gazetteer\, and a variety of treats and delicacies produced in Northern Wisconsin. \nThe program ends September 2. To find a Northern Waters library near you\, go to the website: https://nwls.wislib.org/library-directory/.
URL:https://superiorlibrary.org/event/northern-waters-library-passport-program/
LOCATION:WI
CATEGORIES:Adult Event,Community Event,In-Person Event,Lake Nebagamon,Solon Springs,Teen Event,Youth Services
END:VEVENT
BEGIN:VEVENT
DTSTART;VALUE=DATE:20250601
DTEND;VALUE=DATE:20250901
DTSTAMP:20260421T172933
CREATED:20250602T180403Z
LAST-MODIFIED:20250602T180403Z
UID:10002841-1748736000-1756684799@superiorlibrary.org
SUMMARY:Summer Reading Program
DESCRIPTION:Superior Public Library invites YOU to join our Summer Reading Program! \nStarting June 1\, track your reading and start earning prizes! \nKids and teens will earn a prize bag\, free book\, AND prize drawing entry for 450 minutes of reading! Grand prizes include a Jellycat stuffed animal\, a Squishmallows mystery pack\, a 3D printing pen\, a pickleball set\, and various Lego sets. \nThe more you read\, the more prize entries you’ll receive! For each summer challenge you complete\, or for every 15 additional minutes you read\, you’ll get an extra entry into the prize drawing! \nFor adults\, read 5 books by August 31 and you’ll be entered into a prize drawing for a chance to win a $50 gift card from Foxes and Fireflies Booksellers! Keep reading to receive an extra prize drawing entry for every 5 books you read by August 31! \nYou can track your reading by using the ReadSquared app OR by grabbing a reading log at the library starting June 1st.
URL:https://superiorlibrary.org/event/summer-reading-program/
LOCATION:WI
CATEGORIES:Adult Event,Community Event,In-Person Event,Online event,Reading Program,Teen Event,Youth Services
END:VEVENT
BEGIN:VEVENT
DTSTART;TZID=America/Chicago:20250701T103000
DTEND;TZID=America/Chicago:20250701T113000
DTSTAMP:20260421T172933
CREATED:20250514T145909Z
LAST-MODIFIED:20250905T174106Z
UID:10002817-1751365800-1751369400@superiorlibrary.org
SUMMARY:Storytime in the Park
DESCRIPTION:Join us for Storytime in the Park on Tuesdays at 10:30 a.m. from June 17 – October 21. Meet us at Pavilion 2 in Billings Park for stories\, songs\, crafts\, and FUN! \n** Please note that on Tuesday\, August 5\, Storytime will take place at the Superior Community Garden on the 2300 block of Oakes Avenue. **
URL:https://superiorlibrary.org/event/storytime-in-the-park-2/2025-07-01/
LOCATION:Billings Park\, 15 Billings Drive\, Superior\, WI\, 54880\, United States
CATEGORIES:Community Event,Craft program,In-Person Event,Outdoor event,Youth Services
END:VEVENT
BEGIN:VEVENT
DTSTART;TZID=America/Chicago:20250703T140000
DTEND;TZID=America/Chicago:20250703T160000
DTSTAMP:20260421T172933
CREATED:20250624T132950Z
LAST-MODIFIED:20250624T132950Z
UID:10002875-1751551200-1751558400@superiorlibrary.org
SUMMARY:Chalk Art Extravaganza
DESCRIPTION:Bring the kids to the library on July 3 at 2 p.m. for our Chalk Art Extravaganza for kids! Kids will love creating chalk art on the sidewalk around the library\, blowing bubbles\, and completing our scavenger hunt! No registration required.
URL:https://superiorlibrary.org/event/chalk-art-extravaganza/
LOCATION:Superior Public Library\, 1530 Tower Ave.\, Superior\, WI\, 54880\, United States
CATEGORIES:Community Event,In-Person Event,Youth Services
END:VEVENT
BEGIN:VEVENT
DTSTART;TZID=America/Chicago:20250707T160000
DTEND;TZID=America/Chicago:20250707T180000
DTSTAMP:20260421T172933
CREATED:20240103T171829Z
LAST-MODIFIED:20241220T204305Z
UID:10001946-1751904000-1751911200@superiorlibrary.org
SUMMARY:Lego Club at Superior Public Library
DESCRIPTION:Join us every Monday from 4-6 p.m. for our Lego Club and make something AMAZING using our huge collection of Legos! Perfect for ages 3-12.
URL:https://superiorlibrary.org/event/lego-club-at-superior-public-library-2/2025-07-07/
LOCATION:Superior Public Library\, 1530 Tower Ave.\, Superior\, WI\, 54880\, United States
CATEGORIES:Community Event,In-Person Event,Youth Services
ATTACH;FMTTYPE=image/png:https://superiorlibrary.org/2019/wp-content/uploads/2022/05/Blue-Illustration-Happy-International-Lego-Day-Instagram-Post.png
END:VEVENT
BEGIN:VEVENT
DTSTART;TZID=America/Chicago:20250707T163000
DTEND;TZID=America/Chicago:20250707T173000
DTSTAMP:20260421T172933
CREATED:20250630T195521Z
LAST-MODIFIED:20250630T195521Z
UID:10002879-1751905800-1751909400@superiorlibrary.org
SUMMARY:Lego Club at Solon Springs
DESCRIPTION:Join us on July 7 from 4:30-5:30 p.m. for Lego Club at the Joan Salmen Memorial Library in Solon Springs! We’ll provide the Legos\, YOU provide the imagination! \nThe Joan Salmen Memorial Library is located on the lower level of Village Hall in the heart of Solon Springs!
URL:https://superiorlibrary.org/event/lego-club-at-solon-springs-6/
LOCATION:Joan Salmen Memorial Library\, 9420 E. Main\, (Old Village Hall)\, Solon Springs\, WI\, 54873\, United States
CATEGORIES:Community Event,In-Person Event,Solon Springs,Youth Services
ATTACH;FMTTYPE=image/jpeg:https://superiorlibrary.org/2019/wp-content/uploads/2025/06/Lego-Club-at-the-Branches-Summer-2023-Facebook-Event-Cover-Instagram-Post-13.jpg
END:VEVENT
BEGIN:VEVENT
DTSTART;TZID=America/Chicago:20250708T103000
DTEND;TZID=America/Chicago:20250708T113000
DTSTAMP:20260421T172933
CREATED:20250514T145909Z
LAST-MODIFIED:20250905T174106Z
UID:10002818-1751970600-1751974200@superiorlibrary.org
SUMMARY:Storytime in the Park
DESCRIPTION:Join us for Storytime in the Park on Tuesdays at 10:30 a.m. from June 17 – October 21. Meet us at Pavilion 2 in Billings Park for stories\, songs\, crafts\, and FUN! \n** Please note that on Tuesday\, August 5\, Storytime will take place at the Superior Community Garden on the 2300 block of Oakes Avenue. **
URL:https://superiorlibrary.org/event/storytime-in-the-park-2/2025-07-08/
LOCATION:Billings Park\, 15 Billings Drive\, Superior\, WI\, 54880\, United States
CATEGORIES:Community Event,Craft program,In-Person Event,Outdoor event,Youth Services
END:VEVENT
BEGIN:VEVENT
DTSTART;TZID=America/Chicago:20250710T140000
DTEND;TZID=America/Chicago:20250710T150000
DTSTAMP:20260421T172933
CREATED:20250630T200029Z
LAST-MODIFIED:20250630T200029Z
UID:10002880-1752156000-1752159600@superiorlibrary.org
SUMMARY:Sarah's Serpentarium at Billings Park
DESCRIPTION:Join us at Pavilion 2 in Billings Park on July 10 at 2 p.m. for a free event with Sarah’s Serpentarium! Your kids will love learning about all sorts of reptiles during this hands-on educational experience! No registration required.
URL:https://superiorlibrary.org/event/sarahs-serpentarium-at-billings-park/
LOCATION:Billings Park\, 15 Billings Drive\, Superior\, WI\, 54880\, United States
CATEGORIES:Adult Event,Community Event,In-Person Event,Outdoor event,Teen Event,Youth Services
ATTACH;FMTTYPE=image/jpeg:https://superiorlibrary.org/2019/wp-content/uploads/2025/06/Summer-2025-Facebook-event-covers-1080-x-1080-px.jpg
END:VEVENT
BEGIN:VEVENT
DTSTART;TZID=America/Chicago:20250714T160000
DTEND;TZID=America/Chicago:20250714T180000
DTSTAMP:20260421T172933
CREATED:20240103T171829Z
LAST-MODIFIED:20241220T204305Z
UID:10001947-1752508800-1752516000@superiorlibrary.org
SUMMARY:Lego Club at Superior Public Library
DESCRIPTION:Join us every Monday from 4-6 p.m. for our Lego Club and make something AMAZING using our huge collection of Legos! Perfect for ages 3-12.
URL:https://superiorlibrary.org/event/lego-club-at-superior-public-library-2/2025-07-14/
LOCATION:Superior Public Library\, 1530 Tower Ave.\, Superior\, WI\, 54880\, United States
CATEGORIES:Community Event,In-Person Event,Youth Services
ATTACH;FMTTYPE=image/png:https://superiorlibrary.org/2019/wp-content/uploads/2022/05/Blue-Illustration-Happy-International-Lego-Day-Instagram-Post.png
END:VEVENT
BEGIN:VEVENT
DTSTART;TZID=America/Chicago:20250715T103000
DTEND;TZID=America/Chicago:20250715T113000
DTSTAMP:20260421T172933
CREATED:20250514T145909Z
LAST-MODIFIED:20250905T174106Z
UID:10002819-1752575400-1752579000@superiorlibrary.org
SUMMARY:Storytime in the Park
DESCRIPTION:Join us for Storytime in the Park on Tuesdays at 10:30 a.m. from June 17 – October 21. Meet us at Pavilion 2 in Billings Park for stories\, songs\, crafts\, and FUN! \n** Please note that on Tuesday\, August 5\, Storytime will take place at the Superior Community Garden on the 2300 block of Oakes Avenue. **
URL:https://superiorlibrary.org/event/storytime-in-the-park-2/2025-07-15/
LOCATION:Billings Park\, 15 Billings Drive\, Superior\, WI\, 54880\, United States
CATEGORIES:Community Event,Craft program,In-Person Event,Outdoor event,Youth Services
END:VEVENT
BEGIN:VEVENT
DTSTART;TZID=America/Chicago:20250717T140000
DTEND;TZID=America/Chicago:20250717T150000
DTSTAMP:20260421T172933
CREATED:20250701T175837Z
LAST-MODIFIED:20250701T175837Z
UID:10002884-1752760800-1752764400@superiorlibrary.org
SUMMARY:Paint What You See at Billings Park
DESCRIPTION:We want to see the beauty and splendor of nature through YOUR eyes! Bring the kids to Billings Park on July 17 at 2 p.m. for “Paint What You See\,” a free program for kids that will give them the opportunity to express their creativity using paint\, brushes\, and canvas! We’ll provide the supplies so that each child can create their very own masterpiece! No registration required! This program is appropriate for ages 5 and up.
URL:https://superiorlibrary.org/event/paint-what-you-see-at-billings-park/
LOCATION:Billings Park\, 15 Billings Drive\, Superior\, WI\, 54880\, United States
CATEGORIES:Community Event,Craft program,In-Person Event,Outdoor event,Teen Event,Youth Services
ATTACH;FMTTYPE=image/jpeg:https://superiorlibrary.org/2019/wp-content/uploads/2025/07/Paint-1080-x-1080-px.jpg
END:VEVENT
BEGIN:VEVENT
DTSTART;TZID=America/Chicago:20250721T160000
DTEND;TZID=America/Chicago:20250721T180000
DTSTAMP:20260421T172933
CREATED:20240103T171829Z
LAST-MODIFIED:20241220T204305Z
UID:10001948-1753113600-1753120800@superiorlibrary.org
SUMMARY:Lego Club at Superior Public Library
DESCRIPTION:Join us every Monday from 4-6 p.m. for our Lego Club and make something AMAZING using our huge collection of Legos! Perfect for ages 3-12.
URL:https://superiorlibrary.org/event/lego-club-at-superior-public-library-2/2025-07-21/
LOCATION:Superior Public Library\, 1530 Tower Ave.\, Superior\, WI\, 54880\, United States
CATEGORIES:Community Event,In-Person Event,Youth Services
ATTACH;FMTTYPE=image/png:https://superiorlibrary.org/2019/wp-content/uploads/2022/05/Blue-Illustration-Happy-International-Lego-Day-Instagram-Post.png
END:VEVENT
BEGIN:VEVENT
DTSTART;TZID=America/Chicago:20250722T103000
DTEND;TZID=America/Chicago:20250722T113000
DTSTAMP:20260421T172933
CREATED:20250514T145909Z
LAST-MODIFIED:20250905T174106Z
UID:10002820-1753180200-1753183800@superiorlibrary.org
SUMMARY:Storytime in the Park
DESCRIPTION:Join us for Storytime in the Park on Tuesdays at 10:30 a.m. from June 17 – October 21. Meet us at Pavilion 2 in Billings Park for stories\, songs\, crafts\, and FUN! \n** Please note that on Tuesday\, August 5\, Storytime will take place at the Superior Community Garden on the 2300 block of Oakes Avenue. **
URL:https://superiorlibrary.org/event/storytime-in-the-park-2/2025-07-22/
LOCATION:Billings Park\, 15 Billings Drive\, Superior\, WI\, 54880\, United States
CATEGORIES:Community Event,Craft program,In-Person Event,Outdoor event,Youth Services
END:VEVENT
BEGIN:VEVENT
DTSTART;TZID=America/Chicago:20250723T120000
DTEND;TZID=America/Chicago:20250723T160000
DTSTAMP:20260421T172933
CREATED:20250610T161927Z
LAST-MODIFIED:20250610T161927Z
UID:10002873-1753272000-1753286400@superiorlibrary.org
SUMMARY:Community Resource Fair
DESCRIPTION:Do you need assistance with employment\, housing\, healthcare\, or education? Stop by the Community Resource Fair at Superior Public Library on July 23 from 12 – 4 p.m. and connect with local agencies to get the help you need! This event is free and open to all.
URL:https://superiorlibrary.org/event/community-resource-fair/
LOCATION:Superior Public Library\, 1530 Tower Ave.\, Superior\, WI\, 54880\, United States
CATEGORIES:Adult Event,Community Event,Health/wellness,In-Person Event,Teen Event,Youth Services
ATTACH;FMTTYPE=image/jpeg:https://superiorlibrary.org/2019/wp-content/uploads/2025/06/Community-Resource-Fair-Poster-1080-x-1080-px.jpg
END:VEVENT
BEGIN:VEVENT
DTSTART;TZID=America/Chicago:20250724T140000
DTEND;TZID=America/Chicago:20250724T160000
DTSTAMP:20260421T172933
CREATED:20250709T210709Z
LAST-MODIFIED:20250709T210709Z
UID:10002889-1753365600-1753372800@superiorlibrary.org
SUMMARY:Homeschool Lego Club
DESCRIPTION:Bring your kids to Homeschool Lego Club on July 24 from 2-4 p.m. and enjoy building with Legos while spending time with other homeschooling families! No registration required.
URL:https://superiorlibrary.org/event/homeschool-lego-club-3/
LOCATION:Superior Public Library\, 1530 Tower Ave.\, Superior\, WI\, 54880\, United States
CATEGORIES:Community Event,In-Person Event,Teen Event,Youth Services
ATTACH;FMTTYPE=image/jpeg:https://superiorlibrary.org/2019/wp-content/uploads/2025/07/Colorful-Building-Blocks-Back-to-School-Student-Intro-Video-Instagram-Post-12.jpg
END:VEVENT
BEGIN:VEVENT
DTSTART;TZID=America/Chicago:20250728T160000
DTEND;TZID=America/Chicago:20250728T180000
DTSTAMP:20260421T172933
CREATED:20240103T171829Z
LAST-MODIFIED:20241220T204305Z
UID:10001949-1753718400-1753725600@superiorlibrary.org
SUMMARY:Lego Club at Superior Public Library
DESCRIPTION:Join us every Monday from 4-6 p.m. for our Lego Club and make something AMAZING using our huge collection of Legos! Perfect for ages 3-12.
URL:https://superiorlibrary.org/event/lego-club-at-superior-public-library-2/2025-07-28/
LOCATION:Superior Public Library\, 1530 Tower Ave.\, Superior\, WI\, 54880\, United States
CATEGORIES:Community Event,In-Person Event,Youth Services
ATTACH;FMTTYPE=image/png:https://superiorlibrary.org/2019/wp-content/uploads/2022/05/Blue-Illustration-Happy-International-Lego-Day-Instagram-Post.png
END:VEVENT
BEGIN:VEVENT
DTSTART;TZID=America/Chicago:20250729T103000
DTEND;TZID=America/Chicago:20250729T113000
DTSTAMP:20260421T172933
CREATED:20250514T145909Z
LAST-MODIFIED:20250905T174106Z
UID:10002821-1753785000-1753788600@superiorlibrary.org
SUMMARY:Storytime in the Park
DESCRIPTION:Join us for Storytime in the Park on Tuesdays at 10:30 a.m. from June 17 – October 21. Meet us at Pavilion 2 in Billings Park for stories\, songs\, crafts\, and FUN! \n** Please note that on Tuesday\, August 5\, Storytime will take place at the Superior Community Garden on the 2300 block of Oakes Avenue. **
URL:https://superiorlibrary.org/event/storytime-in-the-park-2/2025-07-29/
LOCATION:Billings Park\, 15 Billings Drive\, Superior\, WI\, 54880\, United States
CATEGORIES:Community Event,Craft program,In-Person Event,Outdoor event,Youth Services
END:VEVENT
BEGIN:VEVENT
DTSTART;TZID=America/Chicago:20250730T103000
DTEND;TZID=America/Chicago:20250730T123000
DTSTAMP:20260421T172933
CREATED:20250711T202250Z
LAST-MODIFIED:20250711T202250Z
UID:10002891-1753871400-1753878600@superiorlibrary.org
SUMMARY:Summer Party & Memory Cafe
DESCRIPTION:Celebrate summer at the next Memory Cafe! Join the ADRC of Douglas County and the library at Pavilion 2 in Billings Park on July 30 from 10:30 a.m. – 12:30 p.m. for an all-ages summer party featuring live music performed by Brody and the Roadies! Enjoy free snacks and refreshments sponsored by the ADRC and Diamond Willow. No registration is required.
URL:https://superiorlibrary.org/event/summer-party-memory-cafe/
LOCATION:Billings Park\, 15 Billings Drive\, Superior\, WI\, 54880\, United States
CATEGORIES:Adult Event,Community Event,Health/wellness,In-Person Event,Outdoor event,Teen Event,Youth Services
ATTACH;FMTTYPE=image/jpeg:https://superiorlibrary.org/2019/wp-content/uploads/2025/07/Youre-Invited-1080-x-1080-px.jpg
END:VEVENT
BEGIN:VEVENT
DTSTART;TZID=America/Chicago:20250730T160000
DTEND;TZID=America/Chicago:20250730T170000
DTSTAMP:20260421T172933
CREATED:20250715T163930Z
LAST-MODIFIED:20250715T163930Z
UID:10002894-1753891200-1753894800@superiorlibrary.org
SUMMARY:Polly the Therapy Cat
DESCRIPTION:Could you use some quality time with a therapy cat? Polly the Therapy Cat will return to the library on July 30 from 4-5 p.m.! Reserve your 15-minute time slot and spend some stress-reducing time with this playful and people-friendly kitty! Email wiisanenk@superiorlibrary.org to reserve your spot!
URL:https://superiorlibrary.org/event/polly-the-therapy-cat-9/
LOCATION:Superior Public Library\, 1530 Tower Ave.\, Superior\, WI\, 54880\, United States
CATEGORIES:Adult Event,Community Event,Health/wellness,In-Person Event,Teen Event,Youth Services
END:VEVENT
BEGIN:VEVENT
DTSTART;TZID=America/Chicago:20250730T180000
DTEND;TZID=America/Chicago:20250730T190000
DTSTAMP:20260421T172933
CREATED:20250716T141642Z
LAST-MODIFIED:20250716T141642Z
UID:10002895-1753898400-1753902000@superiorlibrary.org
SUMMARY:Read to a Reptile
DESCRIPTION:Sarah Glesner from Sarah’s Serpentarium and one of her special reptile friends will visit the library on July 30 at 6 p.m. to give your young reader the opportunity to practice reading aloud in a safe and non-judgmental environment. Sign up for time slot and join us for Read to a Reptile. Please email wiisanenk@superiorlibrary.org to reserve your spot!
URL:https://superiorlibrary.org/event/read-to-a-reptile-10/
LOCATION:Superior Public Library\, 1530 Tower Ave.\, Superior\, WI\, 54880\, United States
CATEGORIES:Community Event,In-Person Event,Youth Services
END:VEVENT
BEGIN:VEVENT
DTSTART;TZID=America/Chicago:20250731T103000
DTEND;TZID=America/Chicago:20250731T110000
DTSTAMP:20260421T172933
CREATED:20250716T142625Z
LAST-MODIFIED:20250716T142626Z
UID:10002897-1753957800-1753959600@superiorlibrary.org
SUMMARY:Just Kids Dental Storytime
DESCRIPTION:Join us for a special storytime at the library with Just Kids Dental on July 31 at 10:30 a.m.! Learn about the importance of proper brushing\, flossing\, and good nutrition in this fun and interactive storytime for toddlers and preschoolers. Every child will receive a complimentary toothbrush\, toothpaste\, and floss!
URL:https://superiorlibrary.org/event/just-kids-dental-storytime-2/
LOCATION:Superior Public Library\, 1530 Tower Ave.\, Superior\, WI\, 54880\, United States
CATEGORIES:Community Event,Health/wellness,In-Person Event,Youth Services
END:VEVENT
BEGIN:VEVENT
DTSTART;TZID=America/Chicago:20250731T140000
DTEND;TZID=America/Chicago:20250731T150000
DTSTAMP:20260421T172933
CREATED:20250717T160954Z
LAST-MODIFIED:20250717T160954Z
UID:10002898-1753970400-1753974000@superiorlibrary.org
SUMMARY:The Amazing Acrobatic Jugglers Bob & Trish!
DESCRIPTION:Our summer of fun at Billings Park continues with the Amazing Acrobatic Jugglers Bob and Trish on July 31 at 2 p.m.! Kids of all ages will love this interactive\, gravity-defying performance featuring juggling\, unicycles\, acrobatics\, and other feats of balance and dexterity. No registration required. This event will take place at Pavilion 2 in Billings Park in Superior.
URL:https://superiorlibrary.org/event/the-amazing-acrobatic-jugglers-bob-trish/
LOCATION:Billings Park\, 15 Billings Drive\, Superior\, WI\, 54880\, United States
CATEGORIES:Adult Event,Community Event,In-Person Event,Outdoor event,Teen Event,Youth Services
END:VEVENT
END:VCALENDAR