BEGIN:VCALENDAR
VERSION:2.0
PRODID:-//Superior Public Library - ECPv6.15.20//NONSGML v1.0//EN
CALSCALE:GREGORIAN
METHOD:PUBLISH
X-WR-CALNAME:Superior Public Library
X-ORIGINAL-URL:https://superiorlibrary.org
X-WR-CALDESC:Events for Superior Public Library
REFRESH-INTERVAL;VALUE=DURATION:PT1H
X-Robots-Tag:noindex
X-PUBLISHED-TTL:PT1H
BEGIN:VTIMEZONE
TZID:America/Chicago
BEGIN:DAYLIGHT
TZOFFSETFROM:-0600
TZOFFSETTO:-0500
TZNAME:CDT
DTSTART:20240310T080000
END:DAYLIGHT
BEGIN:STANDARD
TZOFFSETFROM:-0500
TZOFFSETTO:-0600
TZNAME:CST
DTSTART:20241103T070000
END:STANDARD
BEGIN:DAYLIGHT
TZOFFSETFROM:-0600
TZOFFSETTO:-0500
TZNAME:CDT
DTSTART:20250309T080000
END:DAYLIGHT
BEGIN:STANDARD
TZOFFSETFROM:-0500
TZOFFSETTO:-0600
TZNAME:CST
DTSTART:20251102T070000
END:STANDARD
BEGIN:DAYLIGHT
TZOFFSETFROM:-0600
TZOFFSETTO:-0500
TZNAME:CDT
DTSTART:20260308T080000
END:DAYLIGHT
BEGIN:STANDARD
TZOFFSETFROM:-0500
TZOFFSETTO:-0600
TZNAME:CST
DTSTART:20261101T070000
END:STANDARD
END:VTIMEZONE
BEGIN:VEVENT
DTSTART;VALUE=DATE:20250407
DTEND;VALUE=DATE:20250903
DTSTAMP:20260421T190022
CREATED:20250512T203356Z
LAST-MODIFIED:20250512T203356Z
UID:10002809-1743984000-1756857599@superiorlibrary.org
SUMMARY:Northern Waters Library Passport Program
DESCRIPTION:Did you know that the oldest Dairy Queen in Wisconsin can be found in Lake Nebagamon? Or that Sayner is the birthplace of the snowmobile? Northern Wisconsin is full of history\, culture\, and natural splendor – and this spring and summer\, you can discover it all – with help from your local library! \nStop in at any Northern Waters library and pick up a passport. Make sure to bring your passport with you as you travel throughout northern Wisconsin this spring and summer and get a stamp at each library you visit. Collect 10 different stamps and you’ll be given an entry form to submit for a prize drawing! You could win one of three prize packages which include a $50 Visa gift card\, travel journal and pen\, DeLorme Wisconsin atlas and gazetteer\, and a variety of treats and delicacies produced in Northern Wisconsin. \nThe program ends September 2. To find a Northern Waters library near you\, go to the website: https://nwls.wislib.org/library-directory/.
URL:https://superiorlibrary.org/event/northern-waters-library-passport-program/
LOCATION:WI
CATEGORIES:Adult Event,Community Event,In-Person Event,Lake Nebagamon,Solon Springs,Teen Event,Youth Services
END:VEVENT
BEGIN:VEVENT
DTSTART;VALUE=DATE:20250601
DTEND;VALUE=DATE:20250901
DTSTAMP:20260421T190022
CREATED:20250602T180403Z
LAST-MODIFIED:20250602T180403Z
UID:10002841-1748736000-1756684799@superiorlibrary.org
SUMMARY:Summer Reading Program
DESCRIPTION:Superior Public Library invites YOU to join our Summer Reading Program! \nStarting June 1\, track your reading and start earning prizes! \nKids and teens will earn a prize bag\, free book\, AND prize drawing entry for 450 minutes of reading! Grand prizes include a Jellycat stuffed animal\, a Squishmallows mystery pack\, a 3D printing pen\, a pickleball set\, and various Lego sets. \nThe more you read\, the more prize entries you’ll receive! For each summer challenge you complete\, or for every 15 additional minutes you read\, you’ll get an extra entry into the prize drawing! \nFor adults\, read 5 books by August 31 and you’ll be entered into a prize drawing for a chance to win a $50 gift card from Foxes and Fireflies Booksellers! Keep reading to receive an extra prize drawing entry for every 5 books you read by August 31! \nYou can track your reading by using the ReadSquared app OR by grabbing a reading log at the library starting June 1st.
URL:https://superiorlibrary.org/event/summer-reading-program/
LOCATION:WI
CATEGORIES:Adult Event,Community Event,In-Person Event,Online event,Reading Program,Teen Event,Youth Services
END:VEVENT
BEGIN:VEVENT
DTSTART;TZID=America/Chicago:20250602T160000
DTEND;TZID=America/Chicago:20250602T180000
DTSTAMP:20260421T190022
CREATED:20240103T171829Z
LAST-MODIFIED:20241220T204305Z
UID:10001941-1748880000-1748887200@superiorlibrary.org
SUMMARY:Lego Club at Superior Public Library
DESCRIPTION:Join us every Monday from 4-6 p.m. for our Lego Club and make something AMAZING using our huge collection of Legos! Perfect for ages 3-12.
URL:https://superiorlibrary.org/event/lego-club-at-superior-public-library-2/2025-06-02/
LOCATION:Superior Public Library\, 1530 Tower Ave.\, Superior\, WI\, 54880\, United States
CATEGORIES:Community Event,In-Person Event,Youth Services
ATTACH;FMTTYPE=image/png:https://superiorlibrary.org/2019/wp-content/uploads/2022/05/Blue-Illustration-Happy-International-Lego-Day-Instagram-Post.png
END:VEVENT
BEGIN:VEVENT
DTSTART;TZID=America/Chicago:20250604T103000
DTEND;TZID=America/Chicago:20250604T113000
DTSTAMP:20260421T190022
CREATED:20250515T180941Z
LAST-MODIFIED:20250515T180941Z
UID:10002828-1749033000-1749036600@superiorlibrary.org
SUMMARY:PBS North Storytime with Clifford the Big Red Dog™
DESCRIPTION:Under normal circumstances\, only service animals are allowed in the library — BUT we’re making an exception on June 4 when PBS North joins us for Storytime at 10:30 a.m. along with a VERY special guest: Clifford the Big Red Dog™! Come to this free\, family-friendly event and enjoy stories and FUN at the library! Special thanks to PBS North for bringing Clifford for storytime!
URL:https://superiorlibrary.org/event/pbs-north-storytime-with-clifford-the-big-red-dog/
LOCATION:Superior Public Library\, 1530 Tower Ave.\, Superior\, WI\, 54880\, United States
CATEGORIES:Community Event,In-Person Event,Youth Services
END:VEVENT
BEGIN:VEVENT
DTSTART;TZID=America/Chicago:20250609T160000
DTEND;TZID=America/Chicago:20250609T180000
DTSTAMP:20260421T190022
CREATED:20240103T171829Z
LAST-MODIFIED:20241220T204305Z
UID:10001942-1749484800-1749492000@superiorlibrary.org
SUMMARY:Lego Club at Superior Public Library
DESCRIPTION:Join us every Monday from 4-6 p.m. for our Lego Club and make something AMAZING using our huge collection of Legos! Perfect for ages 3-12.
URL:https://superiorlibrary.org/event/lego-club-at-superior-public-library-2/2025-06-09/
LOCATION:Superior Public Library\, 1530 Tower Ave.\, Superior\, WI\, 54880\, United States
CATEGORIES:Community Event,In-Person Event,Youth Services
ATTACH;FMTTYPE=image/png:https://superiorlibrary.org/2019/wp-content/uploads/2022/05/Blue-Illustration-Happy-International-Lego-Day-Instagram-Post.png
END:VEVENT
BEGIN:VEVENT
DTSTART;TZID=America/Chicago:20250616T140000
DTEND;TZID=America/Chicago:20250616T150000
DTSTAMP:20260421T190022
CREATED:20250522T194807Z
LAST-MODIFIED:20250616T142953Z
UID:10002836-1750082400-1750086000@superiorlibrary.org
SUMMARY:Pokémon Bingo for Kids & Teens! **FULL**
DESCRIPTION:**All spots have been filled for this event** \nJoin us June 16 at 2 p.m. for Pokémon Bingo at the library! This program is intended for kids and teens. Prizes will be awarded! Registration is required. Please email wiisanenk@superiorlibrary.org to reserve your spot. Registration ends June 14\, or as soon as all spots are filled.
URL:https://superiorlibrary.org/event/pokemon-bingo-for-kids-teens/
LOCATION:Superior Public Library\, 1530 Tower Ave.\, Superior\, WI\, 54880\, United States
CATEGORIES:Community Event,In-Person Event,Teen Event,Youth Services
ATTACH;FMTTYPE=image/jpeg:https://superiorlibrary.org/2019/wp-content/uploads/2025/05/Your-paragraph-text-1080-x-1080-px-16.jpg
END:VEVENT
BEGIN:VEVENT
DTSTART;TZID=America/Chicago:20250616T160000
DTEND;TZID=America/Chicago:20250616T180000
DTSTAMP:20260421T190022
CREATED:20240103T171829Z
LAST-MODIFIED:20241220T204305Z
UID:10001943-1750089600-1750096800@superiorlibrary.org
SUMMARY:Lego Club at Superior Public Library
DESCRIPTION:Join us every Monday from 4-6 p.m. for our Lego Club and make something AMAZING using our huge collection of Legos! Perfect for ages 3-12.
URL:https://superiorlibrary.org/event/lego-club-at-superior-public-library-2/2025-06-16/
LOCATION:Superior Public Library\, 1530 Tower Ave.\, Superior\, WI\, 54880\, United States
CATEGORIES:Community Event,In-Person Event,Youth Services
ATTACH;FMTTYPE=image/png:https://superiorlibrary.org/2019/wp-content/uploads/2022/05/Blue-Illustration-Happy-International-Lego-Day-Instagram-Post.png
END:VEVENT
BEGIN:VEVENT
DTSTART;TZID=America/Chicago:20250617T103000
DTEND;TZID=America/Chicago:20250617T113000
DTSTAMP:20260421T190022
CREATED:20250514T145909Z
LAST-MODIFIED:20250905T174106Z
UID:10002815-1750156200-1750159800@superiorlibrary.org
SUMMARY:Storytime in the Park
DESCRIPTION:Join us for Storytime in the Park on Tuesdays at 10:30 a.m. from June 17 – October 21. Meet us at Pavilion 2 in Billings Park for stories\, songs\, crafts\, and FUN! \n** Please note that on Tuesday\, August 5\, Storytime will take place at the Superior Community Garden on the 2300 block of Oakes Avenue. **
URL:https://superiorlibrary.org/event/storytime-in-the-park-2/2025-06-17/
LOCATION:Billings Park\, 15 Billings Drive\, Superior\, WI\, 54880\, United States
CATEGORIES:Community Event,Craft program,In-Person Event,Outdoor event,Youth Services
END:VEVENT
BEGIN:VEVENT
DTSTART;TZID=America/Chicago:20250619T103000
DTEND;TZID=America/Chicago:20250619T113000
DTSTAMP:20260421T190022
CREATED:20250604T174120Z
LAST-MODIFIED:20250618T180626Z
UID:10002842-1750329000-1750332600@superiorlibrary.org
SUMMARY:** CANCELLED ** Polly the Therapy Cat
DESCRIPTION:** Poor Polly isn’t feeling well so our June visit is cancelled. Stay tuned for details of her next visit in July! ** \nPolly the Therapy Cat will visit the library on June 19 at 10:30 a.m.! Sign up for a 15-minute time slot by emailing wiisanenk@superiorlibrary.org and reserve your spot to pet and play with this people-friendly kitty!
URL:https://superiorlibrary.org/event/polly-the-therapy-cat-8/
LOCATION:Superior Public Library\, 1530 Tower Ave.\, Superior\, WI\, 54880\, United States
CATEGORIES:Adult Event,Community Event,Health/wellness,In-Person Event,Teen Event,Youth Services
END:VEVENT
BEGIN:VEVENT
DTSTART;TZID=America/Chicago:20250619T140000
DTEND;TZID=America/Chicago:20250619T150000
DTSTAMP:20260421T190022
CREATED:20250604T174943Z
LAST-MODIFIED:20250604T174943Z
UID:10002843-1750341600-1750345200@superiorlibrary.org
SUMMARY:Juneteenth Craft Program for Kids!
DESCRIPTION:Join us June 19 at 2 p.m. for a FREE craft program for kids in celebration of the Juneteenth holiday! This program is perfect for children ages Pre-K and up. All supplies will be provided and no registration is required! \nJuneteenth is a federal holiday that commemorates the end of slavery in the United States and is observed annually on June 19. Click here for more information about the history of Juneteenth. https://nmaahc.si.edu/explore/stories/historical-legacy-juneteenth
URL:https://superiorlibrary.org/event/juneteenth-craft-program-for-kids/
LOCATION:Superior Public Library\, 1530 Tower Ave.\, Superior\, WI\, 54880\, United States
CATEGORIES:Community Event,Craft program,In-Person Event,Youth Services
END:VEVENT
BEGIN:VEVENT
DTSTART;TZID=America/Chicago:20250623T133000
DTEND;TZID=America/Chicago:20250623T143000
DTSTAMP:20260421T190022
CREATED:20250611T134631Z
LAST-MODIFIED:20250611T134631Z
UID:10002874-1750685400-1750689000@superiorlibrary.org
SUMMARY:Meet the Duluth Harbor Monsters!
DESCRIPTION:Come to the library on June 23 at 1:30 p.m. and meet the Duluth Harbor Monsters! Ben Peters from Superior Choice Credit Union will give a short (and fun!) financial literacy lesson appropriate for elementary school-aged children\, and then a Harbor Monsters player will read a story aloud! You’ll be able to get autographs and pictures with members of the team! This event is free and open to all.
URL:https://superiorlibrary.org/event/meet-the-duluth-harbor-monsters/
LOCATION:Superior Public Library\, 1530 Tower Ave.\, Superior\, WI\, 54880\, United States
CATEGORIES:Community Event,In-Person Event,Youth Services
ATTACH;FMTTYPE=image/jpeg:https://superiorlibrary.org/2019/wp-content/uploads/2025/06/Meet-the-Duluth-Harbor-Monsters-1080-x-1080-px.jpg
END:VEVENT
BEGIN:VEVENT
DTSTART;TZID=America/Chicago:20250623T160000
DTEND;TZID=America/Chicago:20250623T180000
DTSTAMP:20260421T190022
CREATED:20240103T171829Z
LAST-MODIFIED:20241220T204305Z
UID:10001944-1750694400-1750701600@superiorlibrary.org
SUMMARY:Lego Club at Superior Public Library
DESCRIPTION:Join us every Monday from 4-6 p.m. for our Lego Club and make something AMAZING using our huge collection of Legos! Perfect for ages 3-12.
URL:https://superiorlibrary.org/event/lego-club-at-superior-public-library-2/2025-06-23/
LOCATION:Superior Public Library\, 1530 Tower Ave.\, Superior\, WI\, 54880\, United States
CATEGORIES:Community Event,In-Person Event,Youth Services
ATTACH;FMTTYPE=image/png:https://superiorlibrary.org/2019/wp-content/uploads/2022/05/Blue-Illustration-Happy-International-Lego-Day-Instagram-Post.png
END:VEVENT
BEGIN:VEVENT
DTSTART;TZID=America/Chicago:20250624T103000
DTEND;TZID=America/Chicago:20250624T113000
DTSTAMP:20260421T190022
CREATED:20250514T145909Z
LAST-MODIFIED:20250905T174106Z
UID:10002816-1750761000-1750764600@superiorlibrary.org
SUMMARY:Storytime in the Park
DESCRIPTION:Join us for Storytime in the Park on Tuesdays at 10:30 a.m. from June 17 – October 21. Meet us at Pavilion 2 in Billings Park for stories\, songs\, crafts\, and FUN! \n** Please note that on Tuesday\, August 5\, Storytime will take place at the Superior Community Garden on the 2300 block of Oakes Avenue. **
URL:https://superiorlibrary.org/event/storytime-in-the-park-2/2025-06-24/
LOCATION:Billings Park\, 15 Billings Drive\, Superior\, WI\, 54880\, United States
CATEGORIES:Community Event,Craft program,In-Person Event,Outdoor event,Youth Services
END:VEVENT
BEGIN:VEVENT
DTSTART;TZID=America/Chicago:20250624T180000
DTEND;TZID=America/Chicago:20250624T190000
DTSTAMP:20260421T190022
CREATED:20250604T175709Z
LAST-MODIFIED:20250604T175709Z
UID:10002844-1750788000-1750791600@superiorlibrary.org
SUMMARY:Read to a Reptile
DESCRIPTION:Could your young reader use some extra practice reading aloud? Sign them up for Read to a Reptile and give them the opportunity to read aloud to a patient and friendly reptile guest! \nSarah Glesner from Sarah’s Serptentarium will visit the library on June 24 at 6 p.m. with one of her reptile friends! Email wiisanenk@superiorlibrary.org to reserve your spot!
URL:https://superiorlibrary.org/event/read-to-a-reptile-9/
LOCATION:Superior Public Library\, 1530 Tower Ave.\, Superior\, WI\, 54880\, United States
CATEGORIES:Community Event,In-Person Event,Youth Services
END:VEVENT
BEGIN:VEVENT
DTSTART;TZID=America/Chicago:20250626T140000
DTEND;TZID=America/Chicago:20250626T150000
DTSTAMP:20260421T190022
CREATED:20250522T181753Z
LAST-MODIFIED:20250522T181753Z
UID:10002833-1750946400-1750950000@superiorlibrary.org
SUMMARY:How to Draw Cartoons!
DESCRIPTION:Do you like to draw? \nDo you like cartoons? \nMeet cartoonist Paul Merklein on Thursday\, June 26 at 2 p.m. when he virtually visits the library and teaches us how to draw famous cartoon characters! Win prizes and have fun drawing cartoons! This program is intended for kids\, tweens\, and teens ages 7 and up. \nPaul Merklein’s cartoons appear in newspapers\, magazines and YouTube. \n** This program is for beginning or intermediate artists who are 7 years or older.  The students should be old enough to follow basic instructions\, draw simple shapes\, and focus on one drawing for 10 or 15 minutes. **
URL:https://superiorlibrary.org/event/how-to-draw-cartoons/
LOCATION:Superior Public Library\, 1530 Tower Ave.\, Superior\, WI\, 54880\, United States
CATEGORIES:Classes,Community Event,In-Person Event,Teen Event,Youth Services
END:VEVENT
BEGIN:VEVENT
DTSTART;TZID=America/Chicago:20250626T140000
DTEND;TZID=America/Chicago:20250626T160000
DTSTAMP:20260421T190022
CREATED:20250604T185652Z
LAST-MODIFIED:20250604T185652Z
UID:10002850-1750946400-1750953600@superiorlibrary.org
SUMMARY:Homeschool Lego Club
DESCRIPTION:Bring your kids to Homeschool Lego Club on June 26 from 2-4 p.m. and enjoy building with Legos while spending time with other homeschooling families! No registration required.
URL:https://superiorlibrary.org/event/homeschool-lego-club-2/
LOCATION:Superior Public Library\, 1530 Tower Ave.\, Superior\, WI\, 54880\, United States
CATEGORIES:Community Event,In-Person Event,Youth Services
END:VEVENT
BEGIN:VEVENT
DTSTART;TZID=America/Chicago:20250630T160000
DTEND;TZID=America/Chicago:20250630T180000
DTSTAMP:20260421T190022
CREATED:20240103T171829Z
LAST-MODIFIED:20241220T204305Z
UID:10001945-1751299200-1751306400@superiorlibrary.org
SUMMARY:Lego Club at Superior Public Library
DESCRIPTION:Join us every Monday from 4-6 p.m. for our Lego Club and make something AMAZING using our huge collection of Legos! Perfect for ages 3-12.
URL:https://superiorlibrary.org/event/lego-club-at-superior-public-library-2/2025-06-30/
LOCATION:Superior Public Library\, 1530 Tower Ave.\, Superior\, WI\, 54880\, United States
CATEGORIES:Community Event,In-Person Event,Youth Services
ATTACH;FMTTYPE=image/png:https://superiorlibrary.org/2019/wp-content/uploads/2022/05/Blue-Illustration-Happy-International-Lego-Day-Instagram-Post.png
END:VEVENT
END:VCALENDAR