BEGIN:VCALENDAR
VERSION:2.0
PRODID:-//Superior Public Library - ECPv6.15.20//NONSGML v1.0//EN
CALSCALE:GREGORIAN
METHOD:PUBLISH
X-ORIGINAL-URL:https://superiorlibrary.org
X-WR-CALDESC:Events for Superior Public Library
REFRESH-INTERVAL;VALUE=DURATION:PT1H
X-Robots-Tag:noindex
X-PUBLISHED-TTL:PT1H
BEGIN:VTIMEZONE
TZID:America/Chicago
BEGIN:DAYLIGHT
TZOFFSETFROM:-0600
TZOFFSETTO:-0500
TZNAME:CDT
DTSTART:20240310T080000
END:DAYLIGHT
BEGIN:STANDARD
TZOFFSETFROM:-0500
TZOFFSETTO:-0600
TZNAME:CST
DTSTART:20241103T070000
END:STANDARD
BEGIN:DAYLIGHT
TZOFFSETFROM:-0600
TZOFFSETTO:-0500
TZNAME:CDT
DTSTART:20250309T080000
END:DAYLIGHT
BEGIN:STANDARD
TZOFFSETFROM:-0500
TZOFFSETTO:-0600
TZNAME:CST
DTSTART:20251102T070000
END:STANDARD
BEGIN:DAYLIGHT
TZOFFSETFROM:-0600
TZOFFSETTO:-0500
TZNAME:CDT
DTSTART:20260308T080000
END:DAYLIGHT
BEGIN:STANDARD
TZOFFSETFROM:-0500
TZOFFSETTO:-0600
TZNAME:CST
DTSTART:20261101T070000
END:STANDARD
END:VTIMEZONE
BEGIN:VEVENT
DTSTART;VALUE=DATE:20250407
DTEND;VALUE=DATE:20250903
DTSTAMP:20260421T202250
CREATED:20250512T203356Z
LAST-MODIFIED:20250512T203356Z
UID:10002809-1743984000-1756857599@superiorlibrary.org
SUMMARY:Northern Waters Library Passport Program
DESCRIPTION:Did you know that the oldest Dairy Queen in Wisconsin can be found in Lake Nebagamon? Or that Sayner is the birthplace of the snowmobile? Northern Wisconsin is full of history\, culture\, and natural splendor – and this spring and summer\, you can discover it all – with help from your local library! \nStop in at any Northern Waters library and pick up a passport. Make sure to bring your passport with you as you travel throughout northern Wisconsin this spring and summer and get a stamp at each library you visit. Collect 10 different stamps and you’ll be given an entry form to submit for a prize drawing! You could win one of three prize packages which include a $50 Visa gift card\, travel journal and pen\, DeLorme Wisconsin atlas and gazetteer\, and a variety of treats and delicacies produced in Northern Wisconsin. \nThe program ends September 2. To find a Northern Waters library near you\, go to the website: https://nwls.wislib.org/library-directory/.
URL:https://superiorlibrary.org/event/northern-waters-library-passport-program/
LOCATION:WI
CATEGORIES:Adult Event,Community Event,In-Person Event,Lake Nebagamon,Solon Springs,Teen Event,Youth Services
END:VEVENT
BEGIN:VEVENT
DTSTART;TZID=America/Chicago:20250505T160000
DTEND;TZID=America/Chicago:20250505T180000
DTSTAMP:20260421T202250
CREATED:20240103T171829Z
LAST-MODIFIED:20241220T204305Z
UID:10001937-1746460800-1746468000@superiorlibrary.org
SUMMARY:Lego Club at Superior Public Library
DESCRIPTION:Join us every Monday from 4-6 p.m. for our Lego Club and make something AMAZING using our huge collection of Legos! Perfect for ages 3-12.
URL:https://superiorlibrary.org/event/lego-club-at-superior-public-library-2/2025-05-05/
LOCATION:Superior Public Library\, 1530 Tower Ave.\, Superior\, WI\, 54880\, United States
CATEGORIES:Community Event,In-Person Event,Youth Services
ATTACH;FMTTYPE=image/png:https://superiorlibrary.org/2019/wp-content/uploads/2022/05/Blue-Illustration-Happy-International-Lego-Day-Instagram-Post.png
END:VEVENT
BEGIN:VEVENT
DTSTART;TZID=America/Chicago:20250512T160000
DTEND;TZID=America/Chicago:20250512T180000
DTSTAMP:20260421T202250
CREATED:20240103T171829Z
LAST-MODIFIED:20241220T204305Z
UID:10001938-1747065600-1747072800@superiorlibrary.org
SUMMARY:Lego Club at Superior Public Library
DESCRIPTION:Join us every Monday from 4-6 p.m. for our Lego Club and make something AMAZING using our huge collection of Legos! Perfect for ages 3-12.
URL:https://superiorlibrary.org/event/lego-club-at-superior-public-library-2/2025-05-12/
LOCATION:Superior Public Library\, 1530 Tower Ave.\, Superior\, WI\, 54880\, United States
CATEGORIES:Community Event,In-Person Event,Youth Services
ATTACH;FMTTYPE=image/png:https://superiorlibrary.org/2019/wp-content/uploads/2022/05/Blue-Illustration-Happy-International-Lego-Day-Instagram-Post.png
END:VEVENT
BEGIN:VEVENT
DTSTART;TZID=America/Chicago:20250512T163000
DTEND;TZID=America/Chicago:20250512T173000
DTSTAMP:20260421T202250
CREATED:20250501T171818Z
LAST-MODIFIED:20250501T171818Z
UID:10002731-1747067400-1747071000@superiorlibrary.org
SUMMARY:Lego Club at Solon Springs
DESCRIPTION:Are you looking for a family-friendly activity your kids will love? Join us at the Joan Salmen Memorial Library in Solon Springs on Monday\, May 12 from 4:30-5:30 p.m. for Lego Club! Your young builder will LOVE creating something AWESOME out of Legos! No registration required!
URL:https://superiorlibrary.org/event/lego-club-at-solon-springs-11/
LOCATION:Joan Salmen Memorial Library\, 9420 E. Main\, (Old Village Hall)\, Solon Springs\, WI\, 54873\, United States
CATEGORIES:Community Event,In-Person Event,Solon Springs,Youth Services
END:VEVENT
BEGIN:VEVENT
DTSTART;TZID=America/Chicago:20250517T100000
DTEND;TZID=America/Chicago:20250517T120000
DTSTAMP:20260421T202250
CREATED:20250501T173224Z
LAST-MODIFIED:20250501T173224Z
UID:10002733-1747476000-1747483200@superiorlibrary.org
SUMMARY:Crafty Kids!
DESCRIPTION:The library’s next Crafty Kids event will be held Saturday\, May 17 from 10 a.m. to 12 p.m. Stop by the library and make a craft! All supplies provided and NO registration required! \n 
URL:https://superiorlibrary.org/event/crafty-kids-4/
LOCATION:Superior Public Library\, 1530 Tower Ave.\, Superior\, WI\, 54880\, United States
CATEGORIES:Community Event,Craft program,In-Person Event,Youth Services
END:VEVENT
BEGIN:VEVENT
DTSTART;TZID=America/Chicago:20250519T160000
DTEND;TZID=America/Chicago:20250519T180000
DTSTAMP:20260421T202250
CREATED:20240103T171829Z
LAST-MODIFIED:20241220T204305Z
UID:10001939-1747670400-1747677600@superiorlibrary.org
SUMMARY:Lego Club at Superior Public Library
DESCRIPTION:Join us every Monday from 4-6 p.m. for our Lego Club and make something AMAZING using our huge collection of Legos! Perfect for ages 3-12.
URL:https://superiorlibrary.org/event/lego-club-at-superior-public-library-2/2025-05-19/
LOCATION:Superior Public Library\, 1530 Tower Ave.\, Superior\, WI\, 54880\, United States
CATEGORIES:Community Event,In-Person Event,Youth Services
ATTACH;FMTTYPE=image/png:https://superiorlibrary.org/2019/wp-content/uploads/2022/05/Blue-Illustration-Happy-International-Lego-Day-Instagram-Post.png
END:VEVENT
BEGIN:VEVENT
DTSTART;TZID=America/Chicago:20250519T163000
DTEND;TZID=America/Chicago:20250519T173000
DTSTAMP:20260421T202250
CREATED:20250501T174358Z
LAST-MODIFIED:20250501T174358Z
UID:10002734-1747672200-1747675800@superiorlibrary.org
SUMMARY:KidCrafts at Solon Springs
DESCRIPTION:Bring the kids to the Solon Springs library on May 19 for KidCrafts! We’ll provide everything you need to make a flower craft\, perfect for springtime! KidCrafts is held from 4:30-5:30 p.m. and no registration is required!
URL:https://superiorlibrary.org/event/kidcrafts-at-solon-springs-15/
LOCATION:Joan Salmen Memorial Library\, 9420 E. Main\, (Old Village Hall)\, Solon Springs\, WI\, 54873\, United States
CATEGORIES:Community Event,Craft program,In-Person Event,Solon Springs,Youth Services
END:VEVENT
BEGIN:VEVENT
DTSTART;TZID=America/Chicago:20250521T160000
DTEND;TZID=America/Chicago:20250521T170000
DTSTAMP:20260421T202250
CREATED:20250501T172652Z
LAST-MODIFIED:20250514T142719Z
UID:10002732-1747843200-1747846800@superiorlibrary.org
SUMMARY:Polly the Therapy Cat (ALL SPOTS TAKEN)
DESCRIPTION:** This event is fully booked! ** \nPolly the Therapy Cat will visit the library on May 21 from 4-5 p.m. \nSign up for a 15-minute time slot by emailing wiisanenk@superiorlibrary.org and reserve your spot to pet and play with this people-friendly kitty!
URL:https://superiorlibrary.org/event/polly-the-therapy-cat-7/
LOCATION:Superior Public Library\, 1530 Tower Ave.\, Superior\, WI\, 54880\, United States
CATEGORIES:Adult Event,Community Event,Health/wellness,In-Person Event,Teen Event,Youth Services
END:VEVENT
BEGIN:VEVENT
DTSTART;TZID=America/Chicago:20250522T140000
DTEND;TZID=America/Chicago:20250522T160000
DTSTAMP:20260421T202250
CREATED:20250507T164443Z
LAST-MODIFIED:20250507T164443Z
UID:10002737-1747922400-1747929600@superiorlibrary.org
SUMMARY:Homeschool Lego Club
DESCRIPTION:Come to our Homeschool Lego Club on May 22 from 2-4 p.m. and enjoy building something AWESOME out of the library’s huge collection of Legos while socializing with other homeschooling families! No registration required.
URL:https://superiorlibrary.org/event/homeschool-lego-club-11/
LOCATION:Superior Public Library\, 1530 Tower Ave.\, Superior\, WI\, 54880\, United States
CATEGORIES:Community Event,In-Person Event,Youth Services
END:VEVENT
BEGIN:VEVENT
DTSTART;TZID=America/Chicago:20250522T180000
DTEND;TZID=America/Chicago:20250522T190000
DTSTAMP:20260421T202250
CREATED:20250507T164902Z
LAST-MODIFIED:20250507T164902Z
UID:10002738-1747936800-1747940400@superiorlibrary.org
SUMMARY:Pajama Storytime with Millie the Therapy Dog
DESCRIPTION:Join us May 22 at 6 p.m. for a very special Pajama Storytime with extra-special guests Millie the Therapy Dog and her handler\, Jen Stank! Put on your PJs and come down to the library for stories\, songs\, crafts\, and FUN!
URL:https://superiorlibrary.org/event/pajama-storytime-with-millie-the-therapy-dog/
LOCATION:Superior Public Library\, 1530 Tower Ave.\, Superior\, WI\, 54880\, United States
CATEGORIES:Community Event,In-Person Event,Youth Services
END:VEVENT
BEGIN:VEVENT
DTSTART;TZID=America/Chicago:20250527T180000
DTEND;TZID=America/Chicago:20250527T190000
DTSTAMP:20260421T202250
CREATED:20250507T171908Z
LAST-MODIFIED:20250507T171908Z
UID:10002740-1748368800-1748372400@superiorlibrary.org
SUMMARY:Read to a Reptile
DESCRIPTION:Reserve a spot for your child at our next Read to a Reptile and they can practice reading out loud to a cold-blooded creature! Our next Read to a Reptile will be held May 27 at 6 p.m. Registration is required. Email wiisanenk@superiorlibrary.org to reserve your spot! \nSpecial thanks to reptile educator Sarah Glesner for her help with this program!
URL:https://superiorlibrary.org/event/read-to-a-reptile-3/
LOCATION:Superior Public Library\, 1530 Tower Ave.\, Superior\, WI\, 54880\, United States
CATEGORIES:Community Event,In-Person Event,Youth Services
END:VEVENT
END:VCALENDAR