BEGIN:VCALENDAR
VERSION:2.0
PRODID:-//Superior Public Library - ECPv6.15.20//NONSGML v1.0//EN
CALSCALE:GREGORIAN
METHOD:PUBLISH
X-WR-CALNAME:Superior Public Library
X-ORIGINAL-URL:https://superiorlibrary.org
X-WR-CALDESC:Events for Superior Public Library
REFRESH-INTERVAL;VALUE=DURATION:PT1H
X-Robots-Tag:noindex
X-PUBLISHED-TTL:PT1H
BEGIN:VTIMEZONE
TZID:America/Chicago
BEGIN:DAYLIGHT
TZOFFSETFROM:-0600
TZOFFSETTO:-0500
TZNAME:CDT
DTSTART:20240310T080000
END:DAYLIGHT
BEGIN:STANDARD
TZOFFSETFROM:-0500
TZOFFSETTO:-0600
TZNAME:CST
DTSTART:20241103T070000
END:STANDARD
BEGIN:DAYLIGHT
TZOFFSETFROM:-0600
TZOFFSETTO:-0500
TZNAME:CDT
DTSTART:20250309T080000
END:DAYLIGHT
BEGIN:STANDARD
TZOFFSETFROM:-0500
TZOFFSETTO:-0600
TZNAME:CST
DTSTART:20251102T070000
END:STANDARD
BEGIN:DAYLIGHT
TZOFFSETFROM:-0600
TZOFFSETTO:-0500
TZNAME:CDT
DTSTART:20260308T080000
END:DAYLIGHT
BEGIN:STANDARD
TZOFFSETFROM:-0500
TZOFFSETTO:-0600
TZNAME:CST
DTSTART:20261101T070000
END:STANDARD
END:VTIMEZONE
BEGIN:VEVENT
DTSTART;TZID=America/Chicago:20251007T103000
DTEND;TZID=America/Chicago:20251007T113000
DTSTAMP:20260421T131318
CREATED:20250514T145909Z
LAST-MODIFIED:20250905T174106Z
UID:10002929-1759833000-1759836600@superiorlibrary.org
SUMMARY:Storytime in the Park
DESCRIPTION:Join us for Storytime in the Park on Tuesdays at 10:30 a.m. from June 17 – October 21. Meet us at Pavilion 2 in Billings Park for stories\, songs\, crafts\, and FUN! \n** Please note that on Tuesday\, August 5\, Storytime will take place at the Superior Community Garden on the 2300 block of Oakes Avenue. **
URL:https://superiorlibrary.org/event/storytime-in-the-park-2/2025-10-07/
LOCATION:Billings Park\, 15 Billings Drive\, Superior\, WI\, 54880\, United States
CATEGORIES:Community Event,Craft program,In-Person Event,Outdoor event,Youth Services
END:VEVENT
BEGIN:VEVENT
DTSTART;TZID=America/Chicago:20251014T103000
DTEND;TZID=America/Chicago:20251014T113000
DTSTAMP:20260421T131318
CREATED:20250514T145909Z
LAST-MODIFIED:20250905T174106Z
UID:10002930-1760437800-1760441400@superiorlibrary.org
SUMMARY:Storytime in the Park
DESCRIPTION:Join us for Storytime in the Park on Tuesdays at 10:30 a.m. from June 17 – October 21. Meet us at Pavilion 2 in Billings Park for stories\, songs\, crafts\, and FUN! \n** Please note that on Tuesday\, August 5\, Storytime will take place at the Superior Community Garden on the 2300 block of Oakes Avenue. **
URL:https://superiorlibrary.org/event/storytime-in-the-park-2/2025-10-14/
LOCATION:Billings Park\, 15 Billings Drive\, Superior\, WI\, 54880\, United States
CATEGORIES:Community Event,Craft program,In-Person Event,Outdoor event,Youth Services
END:VEVENT
BEGIN:VEVENT
DTSTART;TZID=America/Chicago:20251021T103000
DTEND;TZID=America/Chicago:20251021T113000
DTSTAMP:20260421T131318
CREATED:20250514T145909Z
LAST-MODIFIED:20250905T174106Z
UID:10002936-1761042600-1761046200@superiorlibrary.org
SUMMARY:Storytime in the Park
DESCRIPTION:Join us for Storytime in the Park on Tuesdays at 10:30 a.m. from June 17 – October 21. Meet us at Pavilion 2 in Billings Park for stories\, songs\, crafts\, and FUN! \n** Please note that on Tuesday\, August 5\, Storytime will take place at the Superior Community Garden on the 2300 block of Oakes Avenue. **
URL:https://superiorlibrary.org/event/storytime-in-the-park-2/2025-10-21/
LOCATION:Billings Park\, 15 Billings Drive\, Superior\, WI\, 54880\, United States
CATEGORIES:Community Event,Craft program,In-Person Event,Outdoor event,Youth Services
END:VEVENT
END:VCALENDAR