BEGIN:VCALENDAR
VERSION:2.0
PRODID:-//Superior Public Library - ECPv6.15.20//NONSGML v1.0//EN
CALSCALE:GREGORIAN
METHOD:PUBLISH
X-ORIGINAL-URL:https://superiorlibrary.org
X-WR-CALDESC:Events for Superior Public Library
REFRESH-INTERVAL;VALUE=DURATION:PT1H
X-Robots-Tag:noindex
X-PUBLISHED-TTL:PT1H
BEGIN:VTIMEZONE
TZID:America/Chicago
BEGIN:DAYLIGHT
TZOFFSETFROM:-0600
TZOFFSETTO:-0500
TZNAME:CDT
DTSTART:20240310T080000
END:DAYLIGHT
BEGIN:STANDARD
TZOFFSETFROM:-0500
TZOFFSETTO:-0600
TZNAME:CST
DTSTART:20241103T070000
END:STANDARD
BEGIN:DAYLIGHT
TZOFFSETFROM:-0600
TZOFFSETTO:-0500
TZNAME:CDT
DTSTART:20250309T080000
END:DAYLIGHT
BEGIN:STANDARD
TZOFFSETFROM:-0500
TZOFFSETTO:-0600
TZNAME:CST
DTSTART:20251102T070000
END:STANDARD
BEGIN:DAYLIGHT
TZOFFSETFROM:-0600
TZOFFSETTO:-0500
TZNAME:CDT
DTSTART:20260308T080000
END:DAYLIGHT
BEGIN:STANDARD
TZOFFSETFROM:-0500
TZOFFSETTO:-0600
TZNAME:CST
DTSTART:20261101T070000
END:STANDARD
END:VTIMEZONE
BEGIN:VEVENT
DTSTART;VALUE=DATE:20250524
DTEND;VALUE=DATE:20250527
DTSTAMP:20260421T055046
CREATED:20250507T165138Z
LAST-MODIFIED:20250507T165138Z
UID:10002739-1748044800-1748303999@superiorlibrary.org
SUMMARY:Library closed for Memorial Day
DESCRIPTION:Superior Public Library and its branches in Lake Nebagamon and Solon Springs will be closed Saturday\, May 24 through Monday\, May 26 for the Memorial Day holiday. Regular hours resume Tuesday\, May 27.
URL:https://superiorlibrary.org/event/library-closed-for-memorial-day/
LOCATION:WI
CATEGORIES:Holiday closure
END:VEVENT
BEGIN:VEVENT
DTSTART;VALUE=DATE:20250418
DTEND;VALUE=DATE:20250421
DTSTAMP:20260421T055046
CREATED:20250411T160942Z
LAST-MODIFIED:20250411T160942Z
UID:10002705-1744934400-1745193599@superiorlibrary.org
SUMMARY:Library closed
DESCRIPTION:The library will be closed Friday\, April 18 through Sunday\, April 20 for the spring holiday. We will reopen Monday\, April 21.
URL:https://superiorlibrary.org/event/library-closed-2/
LOCATION:Superior Public Library\, 1530 Tower Ave.\, Superior\, WI\, 54880\, United States
CATEGORIES:Holiday closure
END:VEVENT
END:VCALENDAR