BEGIN:VCALENDAR
VERSION:2.0
PRODID:-//Superior Public Library - ECPv6.15.20//NONSGML v1.0//EN
CALSCALE:GREGORIAN
METHOD:PUBLISH
X-ORIGINAL-URL:https://superiorlibrary.org
X-WR-CALDESC:Events for Superior Public Library
REFRESH-INTERVAL;VALUE=DURATION:PT1H
X-Robots-Tag:noindex
X-PUBLISHED-TTL:PT1H
BEGIN:VTIMEZONE
TZID:America/Chicago
BEGIN:DAYLIGHT
TZOFFSETFROM:-0600
TZOFFSETTO:-0500
TZNAME:CDT
DTSTART:20250309T080000
END:DAYLIGHT
BEGIN:STANDARD
TZOFFSETFROM:-0500
TZOFFSETTO:-0600
TZNAME:CST
DTSTART:20251102T070000
END:STANDARD
BEGIN:DAYLIGHT
TZOFFSETFROM:-0600
TZOFFSETTO:-0500
TZNAME:CDT
DTSTART:20260308T080000
END:DAYLIGHT
BEGIN:STANDARD
TZOFFSETFROM:-0500
TZOFFSETTO:-0600
TZNAME:CST
DTSTART:20261101T070000
END:STANDARD
BEGIN:DAYLIGHT
TZOFFSETFROM:-0600
TZOFFSETTO:-0500
TZNAME:CDT
DTSTART:20270314T080000
END:DAYLIGHT
BEGIN:STANDARD
TZOFFSETFROM:-0500
TZOFFSETTO:-0600
TZNAME:CST
DTSTART:20271107T070000
END:STANDARD
END:VTIMEZONE
BEGIN:VEVENT
DTSTART;TZID=America/Chicago:20260311T173000
DTEND;TZID=America/Chicago:20260311T183000
DTSTAMP:20260420T172753
CREATED:20260305T193128Z
LAST-MODIFIED:20260311T143639Z
UID:10003407-1773250200-1773253800@superiorlibrary.org
SUMMARY:Free Financial Seminar: Women & Money: Own Your Financial Journey
DESCRIPTION:Join financial advisor Robyn Lings for a free financial seminar at the library on Wednesday\, March 11 at 5:30 p.m. Women are increasingly taking the reins when it comes to their finances. They routinely manage household budgets and plan for saving and spending\, but less than half of women say they feel confident making financial decisions. Join us for “Women & Money: Own Your Financial Journey” and learn about the benefits of becoming more actively involved in your financial journey and steps you can take right now. No registration required! \nPrefer to participate virtually from home? Click the link below at the scheduled time and you can join the program on your device. \nhttps://teams.microsoft.com/meet/27229799112875?p=KUf8nXVSUyrqlY12Z7
URL:https://superiorlibrary.org/event/free-financial-seminar-women-money-own-your-financial-journey/
LOCATION:Superior Public Library\, 1530 Tower Ave.\, Superior\, WI\, 54880\, United States
CATEGORIES:Adult Event,Community Event,Health/wellness,In-Person Event
ATTACH;FMTTYPE=image/jpeg:https://superiorlibrary.org/2019/wp-content/uploads/2026/03/Women-Own-Your-Financial-Journey-Facebook-1080-x-1080-px.jpg
END:VEVENT
BEGIN:VEVENT
DTSTART;TZID=America/Chicago:20260319T113000
DTEND;TZID=America/Chicago:20260319T123000
DTSTAMP:20260420T172753
CREATED:20260306T143750Z
LAST-MODIFIED:20260306T143750Z
UID:10003411-1773919800-1773923400@superiorlibrary.org
SUMMARY:Free Financial Seminar: "Longevity Planning for Women"
DESCRIPTION:Join financial advisor Robyn Lings at the library on Thursday\, March 19 from 11:30 a.m. – 12:30 p.m. for a welcoming lunchtime financial seminar\, “Longevity Planning for Women\,” and learn how to plan for long-term financial security\, healthcare needs\, housing decisions\, and overall well-being. You’ll leave with practical insights and simple steps to support independence\, confidence\, and peace of mind in the years ahead. No registration is required!
URL:https://superiorlibrary.org/event/free-financial-seminar-longevity-planning-for-women/
LOCATION:Superior Public Library\, 1530 Tower Ave.\, Superior\, WI\, 54880\, United States
CATEGORIES:Adult Event,Classes,Community Event,Health/wellness,In-Person Event
ATTACH;FMTTYPE=image/png:https://superiorlibrary.org/2019/wp-content/uploads/2026/03/Copy-of-Women-Own-Your-Financial-Journey-Facebook-1080-x-1080-px.png
END:VEVENT
BEGIN:VEVENT
DTSTART;TZID=America/Chicago:20260321T103000
DTEND;TZID=America/Chicago:20260321T113000
DTSTAMP:20260420T172753
CREATED:20260306T145922Z
LAST-MODIFIED:20260306T145922Z
UID:10003413-1774089000-1774092600@superiorlibrary.org
SUMMARY:Free Yoga at the Library
DESCRIPTION:Join us for a free mat-based yoga class at the library on March 21 at 10:30 a.m. Led by instructor Jen Rosnau\, this all-levels class is perfect for ages 12 and up and will help you build strength\, improve flexibility\, and relieve stress. Bring a mat if you have one. \nThere is no charge for the class\, but if you’d like to make a monetary donation to show your appreciation for the class\, a donation jar will be available. All proceeds will support library programs.
URL:https://superiorlibrary.org/event/free-yoga-at-the-library-2/
LOCATION:Superior Public Library\, 1530 Tower Ave.\, Superior\, WI\, 54880\, United States
CATEGORIES:Adult Event,Classes,Community Event,Health/wellness,In-Person Event,Teen Event
ATTACH;FMTTYPE=image/jpeg:https://superiorlibrary.org/2019/wp-content/uploads/2026/03/Yoga-at-the-library-Instagram-Post-1.jpg
END:VEVENT
BEGIN:VEVENT
DTSTART;TZID=America/Chicago:20260325T103000
DTEND;TZID=America/Chicago:20260325T123000
DTSTAMP:20260420T172753
CREATED:20260306T151439Z
LAST-MODIFIED:20260306T151439Z
UID:10003414-1774434600-1774441800@superiorlibrary.org
SUMMARY:Memory Cafe
DESCRIPTION:Join us Wednesday\, March 25 from 10:30 a.m. – 12:30 p.m. for our next Memory Cafe and share your favorite memories of winter while enjoying wonderful winter treats and making new friends! \nMemory cafés are held at the library the last Wednesday of each month from 10:30 a.m. – 12:30 p.m. and are a partnership with the ADRC of Douglas County\, WI. They’re designed for people experiencing memory loss and their caregivers to have a positive\, safe place to gather and enjoy a hands-on activity. No registration is required.
URL:https://superiorlibrary.org/event/memory-cafe/
LOCATION:Superior Public Library\, 1530 Tower Ave.\, Superior\, WI\, 54880\, United States
CATEGORIES:Adult Event,Community Event,Health/wellness,In-Person Event
ATTACH;FMTTYPE=image/jpeg:https://superiorlibrary.org/2019/wp-content/uploads/2026/03/Memory-Cafe-1080-x-1080-px-5.jpg
END:VEVENT
BEGIN:VEVENT
DTSTART;TZID=America/Chicago:20260327T103000
DTEND;TZID=America/Chicago:20260327T111500
DTSTAMP:20260420T172753
CREATED:20260306T160214Z
LAST-MODIFIED:20260306T160214Z
UID:10003421-1774607400-1774610100@superiorlibrary.org
SUMMARY:Mindful Motion
DESCRIPTION:Come to the library on March 27 for Mindful Motion at 10:30 a.m.! Led by instructors from the YMCA\, this gentle wellness class for older adults combines stretches with simple breathing and meditation techniques to help improve flexibility\, reduce stress\, and promote overall well-being. No registration is required! Just wear comfy clothes and come as you are! No experience necessary!
URL:https://superiorlibrary.org/event/mindful-motion-6/
LOCATION:Superior Public Library\, 1530 Tower Ave.\, Superior\, WI\, 54880\, United States
CATEGORIES:Adult Event,Classes,Community Event,Health/wellness,In-Person Event
ATTACH;FMTTYPE=image/jpeg:https://superiorlibrary.org/2019/wp-content/uploads/2026/03/Your-paragraph-text-1080-x-1080-px-35.jpg
END:VEVENT
BEGIN:VEVENT
DTSTART;TZID=America/Chicago:20260407T130000
DTEND;TZID=America/Chicago:20260407T140000
DTSTAMP:20260420T172753
CREATED:20260324T165431Z
LAST-MODIFIED:20260324T165431Z
UID:10003523-1775566800-1775570400@superiorlibrary.org
SUMMARY:Senior Planet: Digital Estate Planning Tools & Resources
DESCRIPTION:A simple plan is better than no plan! Estate planning may sound intimidating\, but it’s how you can make sure that your health\, finances\, and anything you own is handled according to your wishes.  Join Jen and Leslie at the library on April 7 at 1 p.m. for a FREE Senior Planet program\, “Digital Estate Planning Tools & Resources\,” and learn about the common documents found in an estate plan as well as a few free and low-cost resources that make it simple to plan your estate. \nSpecial thanks to the Rotary Club of Superior for their generous support of our Senior Planet programs.
URL:https://superiorlibrary.org/event/senior-planet-digital-estate-planning-tools-resources/
LOCATION:Superior Public Library\, 1530 Tower Ave.\, Superior\, WI\, 54880\, United States
CATEGORIES:Adult Event,Classes,Community Event,Health/wellness,In-Person Event,Tech Help
ATTACH;FMTTYPE=image/png:https://superiorlibrary.org/2019/wp-content/uploads/2026/03/Senior-Planet-Digital-Estate-Planning-Tools-Resources-1080-x-1080-px.png
END:VEVENT
BEGIN:VEVENT
DTSTART;TZID=America/Chicago:20260408T173000
DTEND;TZID=America/Chicago:20260408T190000
DTSTAMP:20260420T172753
CREATED:20260408T163557Z
LAST-MODIFIED:20260408T163557Z
UID:10003527-1775669400-1775674800@superiorlibrary.org
SUMMARY:Landlord & Tenant Rights & Responsibilities
DESCRIPTION:The library will host a FREE program presented by UW-Madison Extension Douglas County about landlord and tenant rights and responsibilities on April 8 at 5:30 p.m. and April 9 at 10 a.m. Pick the time that works best for you!\n\nAt this free program\, Jeff Kersten from the Wisconsin Bureau of Consumer Protection will discuss Wisconsin laws regarding landlords and tenants and share a variety of resources. This event is FREE to attend!\n\nRegistration is appreciated\, but not required. Click here to reserve your spot: https://go.wisc.edu/h53xmr\n\nThe Wisconsin Bureau of Consumer Protection will present information on landlord and tenant rights and responsibilities under Wisconsin law. Many Wisconsin residents live in rental housing. As a landlord or tenant in Wisconsin\, it is important to understand your rights and responsibilities. As part of the presentation\, landlord and tenant resources will be available.\nAs Wisconsin’s lead agency for consumer protection\, the Bureau of Consumer Protection at the Wisconsin Department of Agriculture Trade and Consumer Protection\, provides information and education\, mediates complaints\, investigates cases\, and takes enforcement actions to fight fraudulent and deceptive practices that harm consumers and honest businesses.
URL:https://superiorlibrary.org/event/landlord-tenant-rights-responsibilities/2026-04-08/
LOCATION:Superior Public Library\, 1530 Tower Ave.\, Superior\, WI\, 54880\, United States
CATEGORIES:Adult Event,Classes,Community Event,Health/wellness,In-Person Event,Teen Event
ATTACH;FMTTYPE=image/png:https://superiorlibrary.org/2019/wp-content/uploads/2026/04/Virtual-Renting-program-graphic.png
END:VEVENT
BEGIN:VEVENT
DTSTART;TZID=America/Chicago:20260409T100000
DTEND;TZID=America/Chicago:20260409T113000
DTSTAMP:20260420T172753
CREATED:20260408T163557Z
LAST-MODIFIED:20260408T163557Z
UID:10003528-1775728800-1775734200@superiorlibrary.org
SUMMARY:Landlord & Tenant Rights & Responsibilities
DESCRIPTION:The library will host a FREE program presented by UW-Madison Extension Douglas County about landlord and tenant rights and responsibilities on April 8 at 5:30 p.m. and April 9 at 10 a.m. Pick the time that works best for you!\n\nAt this free program\, Jeff Kersten from the Wisconsin Bureau of Consumer Protection will discuss Wisconsin laws regarding landlords and tenants and share a variety of resources. This event is FREE to attend!\n\nRegistration is appreciated\, but not required. Click here to reserve your spot: https://go.wisc.edu/h53xmr\n\nThe Wisconsin Bureau of Consumer Protection will present information on landlord and tenant rights and responsibilities under Wisconsin law. Many Wisconsin residents live in rental housing. As a landlord or tenant in Wisconsin\, it is important to understand your rights and responsibilities. As part of the presentation\, landlord and tenant resources will be available.\nAs Wisconsin’s lead agency for consumer protection\, the Bureau of Consumer Protection at the Wisconsin Department of Agriculture Trade and Consumer Protection\, provides information and education\, mediates complaints\, investigates cases\, and takes enforcement actions to fight fraudulent and deceptive practices that harm consumers and honest businesses.
URL:https://superiorlibrary.org/event/landlord-tenant-rights-responsibilities/2026-04-09/
LOCATION:Superior Public Library\, 1530 Tower Ave.\, Superior\, WI\, 54880\, United States
CATEGORIES:Adult Event,Classes,Community Event,Health/wellness,In-Person Event,Teen Event
ATTACH;FMTTYPE=image/png:https://superiorlibrary.org/2019/wp-content/uploads/2026/04/Virtual-Renting-program-graphic.png
END:VEVENT
BEGIN:VEVENT
DTSTART;TZID=America/Chicago:20260416T170000
DTEND;TZID=America/Chicago:20260416T183000
DTSTAMP:20260420T172753
CREATED:20260410T031802Z
LAST-MODIFIED:20260410T031802Z
UID:10003530-1776358800-1776364200@superiorlibrary.org
SUMMARY:River Revival Series: Anishinaabe Canoe Migration: Culture & Connection on the St. Louis River
DESCRIPTION:What’s happening on the St. Louis River right now? Join the St. Louis River Alliance for their new River Revival event series\, a monthly gathering to learn about the river\, ongoing restoration at Wisconsin Point and Allouez Bay\, and ways to connect with this special place. \nJoin the St. Louis River Alliance and partners for the first River Revival on Thursday\, April 16 from 5-6:30 p.m. at Superior Public Library. \nAnishinaabe artist\, educator\, and community organizer Giizh Agaton Howes of Heart Berry will share about the ~11-mile inaugural Anishinaabe Canoe Migration she organized on the St. Louis River in 2025. Come hear from the paddlers who followed ancestral waterways from Chambers Grove to Woodstock Bay in an ongoing effort to reconnect community with the water. Members will share their perspective on the cultural importance of the St. Louis River and Wisconsin Point. \nFollowing the presentation\, participants are invited to create their own river-inspired artwork in a hands-on block printing activity (all materials provided). Wisconsin DNR staff will also be present to share updates on current restoration work at Wisconsin Point and Allouez Bay and answer questions. \nCome listen\, learn\, create\, and connect with the living stories of the river.
URL:https://superiorlibrary.org/event/river-revival-series-anishinaabe-canoe-migration-culture-connection-on-the-st-louis-river/
LOCATION:Superior Public Library\, 1530 Tower Ave.\, Superior\, WI\, 54880\, United States
CATEGORIES:Adult Event,Community Event,Health/wellness,In-Person Event,Teen Event,Youth Services
ATTACH;FMTTYPE=image/png:https://superiorlibrary.org/2019/wp-content/uploads/2026/04/April-16-500-PM-Superior-Public-Library-1080-x-1080-px.png
END:VEVENT
BEGIN:VEVENT
DTSTART;TZID=America/Chicago:20260420T163000
DTEND;TZID=America/Chicago:20260420T173000
DTSTAMP:20260420T172753
CREATED:20260415T192520Z
LAST-MODIFIED:20260415T192520Z
UID:10003560-1776702600-1776706200@superiorlibrary.org
SUMMARY:KidCrafts at Solon Springs
DESCRIPTION:Come to the Joan Salmen Memorial Library in Solon Springs for KidCrafts on Monday\, April 20 from 4:30-5:30 p.m. and make a sensory bottle craft! All supplies provided and NO registration required.
URL:https://superiorlibrary.org/event/kidcrafts-at-solon-springs-12/
LOCATION:Joan Salmen Memorial Library\, 9420 E. Main\, (Old Village Hall)\, Solon Springs\, WI\, 54873\, United States
CATEGORIES:Community Event,Craft program,Health/wellness,In-Person Event,Solon Springs,Youth Services
ATTACH;FMTTYPE=image/jpeg:https://superiorlibrary.org/2019/wp-content/uploads/2026/04/Your-paragraph-text-1080-x-1080-px-41.jpg
END:VEVENT
BEGIN:VEVENT
DTSTART;TZID=America/Chicago:20260423T113000
DTEND;TZID=America/Chicago:20260423T123000
DTSTAMP:20260420T172753
CREATED:20260413T204358Z
LAST-MODIFIED:20260413T204358Z
UID:10003549-1776943800-1776947400@superiorlibrary.org
SUMMARY:Medicare: Filling in the Gaps
DESCRIPTION:Financial advisor Robyn Lings visits the library on April 23 at 11:30 a.m. for a free lunchtime seminar\, “Medicare: Filling the Gaps\,” where she’ll discuss the costs of healthcare in retirement\, Medicare basics\, what is covered and what is not\, and retirement income planning/budgeting for healthcare in retirement. No registration required!
URL:https://superiorlibrary.org/event/medicare-filling-in-the-gaps/
LOCATION:Superior Public Library\, 1530 Tower Ave.\, Superior\, WI\, 54880\, United States
CATEGORIES:Adult Event,Classes,Community Event,Health/wellness,In-Person Event
ATTACH;FMTTYPE=image/jpeg:https://superiorlibrary.org/2019/wp-content/uploads/2026/04/Your-paragraph-text-1080-x-1080-px-36.jpg
END:VEVENT
BEGIN:VEVENT
DTSTART;TZID=America/Chicago:20260424T103000
DTEND;TZID=America/Chicago:20260424T111500
DTSTAMP:20260420T172753
CREATED:20260413T205106Z
LAST-MODIFIED:20260413T205107Z
UID:10003551-1777026600-1777029300@superiorlibrary.org
SUMMARY:Mindful Motion for Older Adults
DESCRIPTION:Come to the library on April 24 for Mindful Motion at 10:30 a.m.! Led by instructors from the YMCA\, this gentle wellness class for older adults combines stretches with simple breathing and meditation techniques to help improve flexibility\, reduce stress\, and promote overall well-being. No registration is required! Just wear comfy clothes and come as you are! No experience necessary!
URL:https://superiorlibrary.org/event/mindful-motion-for-older-adults-4/
LOCATION:Superior Public Library\, 1530 Tower Ave.\, Superior\, WI\, 54880\, United States
CATEGORIES:Adult Event,Classes,Community Event,Health/wellness,In-Person Event
ATTACH;FMTTYPE=image/jpeg:https://superiorlibrary.org/2019/wp-content/uploads/2026/04/Your-paragraph-text-1080-x-1080-px-37.jpg
END:VEVENT
BEGIN:VEVENT
DTSTART;TZID=America/Chicago:20260424T110000
DTEND;TZID=America/Chicago:20260424T150000
DTSTAMP:20260420T172753
CREATED:20260413T204515Z
LAST-MODIFIED:20260413T204515Z
UID:10003550-1777028400-1777042800@superiorlibrary.org
SUMMARY:Drug Take Back Event
DESCRIPTION:Do you have unused or expired medications at home? The Douglas County Drug Prevention Coalition will host a Drug Take-Back event at the library on Friday\, April 24 from 11 a.m. – 3 p.m. This is a safe and confidential way to dispose of medications and help prevent misuse\, accidental poisonings\, and environmental harm. The Coalition will also have FREE medication lock boxes\, Deterra disposal bags\, and prevention resources available.
URL:https://superiorlibrary.org/event/drug-take-back-event-3/
LOCATION:Superior Public Library\, 1530 Tower Ave.\, Superior\, WI\, 54880\, United States
CATEGORIES:Adult Event,Community Event,Health/wellness,In-Person Event
ATTACH;FMTTYPE=image/jpeg:https://superiorlibrary.org/2019/wp-content/uploads/2026/04/Prescription-Drug-Take-Back-for-Web-7.jpg
END:VEVENT
BEGIN:VEVENT
DTSTART;TZID=America/Chicago:20260429T103000
DTEND;TZID=America/Chicago:20260429T123000
DTSTAMP:20260420T172753
CREATED:20260415T194251Z
LAST-MODIFIED:20260415T194251Z
UID:10003561-1777458600-1777465800@superiorlibrary.org
SUMMARY:Memory Cafe
DESCRIPTION:It’s time for spring planting! Join the ADRC of Douglas County at the library on Wednesday\, April 29 from 10:30 a.m. – 12:30 p.m. for the next Memory Cafe and celebrate spring! Snacks provided and no registration required. \nMemory Cafes are designed for people with dementia and their caregivers and provide the opportunity to socialize with others in a safe and positive environment.
URL:https://superiorlibrary.org/event/memory-cafe-2/
LOCATION:Superior Public Library\, 1530 Tower Ave.\, Superior\, WI\, 54880\, United States
CATEGORIES:Adult Event,Community Event,Health/wellness,In-Person Event
ATTACH;FMTTYPE=image/jpeg:https://superiorlibrary.org/2019/wp-content/uploads/2026/04/Your-paragraph-text-1080-x-1080-px-42.jpg
END:VEVENT
END:VCALENDAR