BEGIN:VCALENDAR
VERSION:2.0
PRODID:-//Superior Public Library - ECPv6.15.20//NONSGML v1.0//EN
CALSCALE:GREGORIAN
METHOD:PUBLISH
X-ORIGINAL-URL:https://superiorlibrary.org
X-WR-CALDESC:Events for Superior Public Library
REFRESH-INTERVAL;VALUE=DURATION:PT1H
X-Robots-Tag:noindex
X-PUBLISHED-TTL:PT1H
BEGIN:VTIMEZONE
TZID:America/Chicago
BEGIN:DAYLIGHT
TZOFFSETFROM:-0600
TZOFFSETTO:-0500
TZNAME:CDT
DTSTART:20240310T080000
END:DAYLIGHT
BEGIN:STANDARD
TZOFFSETFROM:-0500
TZOFFSETTO:-0600
TZNAME:CST
DTSTART:20241103T070000
END:STANDARD
BEGIN:DAYLIGHT
TZOFFSETFROM:-0600
TZOFFSETTO:-0500
TZNAME:CDT
DTSTART:20250309T080000
END:DAYLIGHT
BEGIN:STANDARD
TZOFFSETFROM:-0500
TZOFFSETTO:-0600
TZNAME:CST
DTSTART:20251102T070000
END:STANDARD
BEGIN:DAYLIGHT
TZOFFSETFROM:-0600
TZOFFSETTO:-0500
TZNAME:CDT
DTSTART:20260308T080000
END:DAYLIGHT
BEGIN:STANDARD
TZOFFSETFROM:-0500
TZOFFSETTO:-0600
TZNAME:CST
DTSTART:20261101T070000
END:STANDARD
BEGIN:DAYLIGHT
TZOFFSETFROM:-0600
TZOFFSETTO:-0500
TZNAME:CDT
DTSTART:20270314T080000
END:DAYLIGHT
BEGIN:STANDARD
TZOFFSETFROM:-0500
TZOFFSETTO:-0600
TZNAME:CST
DTSTART:20271107T070000
END:STANDARD
END:VTIMEZONE
BEGIN:VEVENT
DTSTART;TZID=America/Chicago:20260206T173000
DTEND;TZID=America/Chicago:20260206T200000
DTSTAMP:20260421T063635
CREATED:20251210T155347Z
LAST-MODIFIED:20251210T155958Z
UID:10003052-1770399000-1770408000@superiorlibrary.org
SUMMARY:Love Your Local Artist
DESCRIPTION:Join us Friday\, February 6 from 5:30-8 p.m. for our 16th annual Love Your Local Artist event! This annual celebration of libraries\, art\, and community will feature 40+ local artists selling paintings\, pottery\, photographs\, jewelry\, handmade cards\, fabric items\, and much more! Enjoy live music\, wine and refreshments\, and a raffle featuring artwork donated by the participating artists! This event is free to attend! Celebrate local artists and your local library! \n**All available spaces for artists have been reserved for our 2026 event. If you’d like to be added to the waiting list\, please email mehlel@superiorlibrary.org.**
URL:https://superiorlibrary.org/event/love-your-local-artist/
LOCATION:Superior Public Library\, 1530 Tower Ave.\, Superior\, WI\, 54880\, United States
CATEGORIES:Adult Event,Community Event,Friends of the Library Event,Fundraiser,In-Person Event,Teen Event,Youth Services
ATTACH;FMTTYPE=image/jpeg:https://superiorlibrary.org/2019/wp-content/uploads/2025/12/LYLA-2025-website-1.jpg
END:VEVENT
BEGIN:VEVENT
DTSTART;TZID=America/Chicago:20251206T100000
DTEND;TZID=America/Chicago:20251206T140000
DTSTAMP:20260421T063635
CREATED:20251117T180329Z
LAST-MODIFIED:20251117T180330Z
UID:10003013-1765015200-1765029600@superiorlibrary.org
SUMMARY:Merry Little Book Sale
DESCRIPTION:Don’t miss the Friends of the Library’s annual Merry Little Book Sale! This special sale features a variety of like-new books\, puzzles\, and more — perfect for giving as gifts during the holiday season! If you’ve got a book-lover on your list (or are shopping for yourself!)\, you won’t want to miss this sale!\n\nThe sale will also include refreshments\, free gift-wrapping for book sale purchases\, and a quilt raffle!\n\nThe sale will be held at the library on Friday\, December 5 from 10 a.m. to 5 p.m. and Saturday\, December 6 from 10 a.m. to 2 p.m.
URL:https://superiorlibrary.org/event/merry-little-book-sale-2/2025-12-06/
LOCATION:Superior Public Library\, 1530 Tower Ave.\, Superior\, WI\, 54880\, United States
CATEGORIES:Adult Event,Book Sale,Community Event,Friends of the Library Event,Fundraiser,In-Person Event,Teen Event,Youth Services
END:VEVENT
BEGIN:VEVENT
DTSTART;TZID=America/Chicago:20251205T100000
DTEND;TZID=America/Chicago:20251205T170000
DTSTAMP:20260421T063635
CREATED:20251117T180329Z
LAST-MODIFIED:20251117T180330Z
UID:10003012-1764928800-1764954000@superiorlibrary.org
SUMMARY:Merry Little Book Sale
DESCRIPTION:Don’t miss the Friends of the Library’s annual Merry Little Book Sale! This special sale features a variety of like-new books\, puzzles\, and more — perfect for giving as gifts during the holiday season! If you’ve got a book-lover on your list (or are shopping for yourself!)\, you won’t want to miss this sale!\n\nThe sale will also include refreshments\, free gift-wrapping for book sale purchases\, and a quilt raffle!\n\nThe sale will be held at the library on Friday\, December 5 from 10 a.m. to 5 p.m. and Saturday\, December 6 from 10 a.m. to 2 p.m.
URL:https://superiorlibrary.org/event/merry-little-book-sale-2/2025-12-05/
LOCATION:Superior Public Library\, 1530 Tower Ave.\, Superior\, WI\, 54880\, United States
CATEGORIES:Adult Event,Book Sale,Community Event,Friends of the Library Event,Fundraiser,In-Person Event,Teen Event,Youth Services
END:VEVENT
BEGIN:VEVENT
DTSTART;TZID=America/Chicago:20251115T100000
DTEND;TZID=America/Chicago:20251115T140000
DTSTAMP:20260421T063635
CREATED:20250519T142850Z
LAST-MODIFIED:20250825T165950Z
UID:10002925-1763200800-1763215200@superiorlibrary.org
SUMMARY:Friends of the Library Fall Book Sale
DESCRIPTION:Mark your calendars for the Friends of Superior Public Library’s annual Fall Book Sale! The sale will be held Friday\, November 14 from 10 a.m. to 5 p.m. and Saturday\, November 15 from 10 a.m. to 2 p.m. \nThe sale will feature thousands of gently-used books for readers of all ages an interests\, including fiction\, non-fiction\, children’s books\, cookbooks\, biographies\, self-help\, history\, and much more! In addition to books\, you’ll find DVDs\, music\, puzzles\, magazines\, and more! \nItems in the large meeting room will be name-your-own price. Find individually-priced treasures next door in the “Best” Room. \nDon’t miss this incredible sale! All proceeds support the library all year long!
URL:https://superiorlibrary.org/event/friends-of-the-library-fall-book-sale/2025-11-15/
LOCATION:Superior Public Library\, 1530 Tower Ave.\, Superior\, WI\, 54880\, United States
CATEGORIES:Adult Event,Book Sale,Community Event,Friends of the Library Event,Fundraiser,In-Person Event,Movies,Music,Teen Event,Youth Services
END:VEVENT
BEGIN:VEVENT
DTSTART;TZID=America/Chicago:20251114T100000
DTEND;TZID=America/Chicago:20251114T170000
DTSTAMP:20260421T063635
CREATED:20250519T142850Z
LAST-MODIFIED:20250825T165950Z
UID:10002924-1763114400-1763139600@superiorlibrary.org
SUMMARY:Friends of the Library Fall Book Sale
DESCRIPTION:Mark your calendars for the Friends of Superior Public Library’s annual Fall Book Sale! The sale will be held Friday\, November 14 from 10 a.m. to 5 p.m. and Saturday\, November 15 from 10 a.m. to 2 p.m. \nThe sale will feature thousands of gently-used books for readers of all ages an interests\, including fiction\, non-fiction\, children’s books\, cookbooks\, biographies\, self-help\, history\, and much more! In addition to books\, you’ll find DVDs\, music\, puzzles\, magazines\, and more! \nItems in the large meeting room will be name-your-own price. Find individually-priced treasures next door in the “Best” Room. \nDon’t miss this incredible sale! All proceeds support the library all year long!
URL:https://superiorlibrary.org/event/friends-of-the-library-fall-book-sale/2025-11-14/
LOCATION:Superior Public Library\, 1530 Tower Ave.\, Superior\, WI\, 54880\, United States
CATEGORIES:Adult Event,Book Sale,Community Event,Friends of the Library Event,Fundraiser,In-Person Event,Movies,Music,Teen Event,Youth Services
END:VEVENT
BEGIN:VEVENT
DTSTART;TZID=America/Chicago:20250612T180000
DTEND;TZID=America/Chicago:20250612T190000
DTSTAMP:20260421T063635
CREATED:20250520T192630Z
LAST-MODIFIED:20250604T173825Z
UID:10002832-1749751200-1749754800@superiorlibrary.org
SUMMARY:Anthony Bukoski & Carol Dunbar
DESCRIPTION:Award-winning local authors Anthony Bukoski and Carol Dunbar will visit the library on Thursday\, June 12 at 6 p.m. for a reading and conversation in celebration of Bukoski’s new short story collection\, The Thief of Words. The interconnected stories in this new collection are filled with desperate runaways\, the unhappily married\, and the displaced\, and are set in the Polish American communities of northern Wisconsin and Louisiana\, where refugees from World War II were resettled. \nCopies of the book will be available for purchase. Refreshments will be provided by the Friends of the Library. This event is free and open to all. \nAuthor bios: \nAnthony Bukoski is an award-winning writer and a fellow of the Wisconsin Academy of Sciences\, Arts\, and Letters. A professor emeritus of English at the University of Wisconsin–Superior\, he is the author of The Blondes of Wisconsin\, Time Between Trains\, Children of Strangers\, and Polonaise. \nCarol Dunbar is a working writer and former actor who left her life in the city to live off the grid. Her debut novel\, The Net Beneath Us\, won the Edna Ferber Fiction Book Award and her second novel\, A Winter’s Rime\, received a 2024 WLA Award for outstanding achievement in fiction. Her essays and stories have appeared in The New York Times\, Brevity\, Lit Hub\, and on Wisconsin Public Radio. She writes from a solar-powered office on the second floor of a water tower where she lives in the woods with her husband\, two kids\, and a Great Pyrenees Mountain Dog.
URL:https://superiorlibrary.org/event/anthony-bukoski-carol-dunbar/
LOCATION:Superior Public Library\, 1530 Tower Ave.\, Superior\, WI\, 54880\, United States
CATEGORIES:Adult Event,Author appearance,Community Event,Friends of the Library Event,In-Person Event,Teen Event
END:VEVENT
END:VCALENDAR