BEGIN:VCALENDAR
VERSION:2.0
PRODID:-//Superior Public Library - ECPv6.15.20//NONSGML v1.0//EN
CALSCALE:GREGORIAN
METHOD:PUBLISH
X-WR-CALNAME:Superior Public Library
X-ORIGINAL-URL:https://superiorlibrary.org
X-WR-CALDESC:Events for Superior Public Library
REFRESH-INTERVAL;VALUE=DURATION:PT1H
X-Robots-Tag:noindex
X-PUBLISHED-TTL:PT1H
BEGIN:VTIMEZONE
TZID:America/Chicago
BEGIN:DAYLIGHT
TZOFFSETFROM:-0600
TZOFFSETTO:-0500
TZNAME:CDT
DTSTART:20250309T080000
END:DAYLIGHT
BEGIN:STANDARD
TZOFFSETFROM:-0500
TZOFFSETTO:-0600
TZNAME:CST
DTSTART:20251102T070000
END:STANDARD
BEGIN:DAYLIGHT
TZOFFSETFROM:-0600
TZOFFSETTO:-0500
TZNAME:CDT
DTSTART:20260308T080000
END:DAYLIGHT
BEGIN:STANDARD
TZOFFSETFROM:-0500
TZOFFSETTO:-0600
TZNAME:CST
DTSTART:20261101T070000
END:STANDARD
BEGIN:DAYLIGHT
TZOFFSETFROM:-0600
TZOFFSETTO:-0500
TZNAME:CDT
DTSTART:20270314T080000
END:DAYLIGHT
BEGIN:STANDARD
TZOFFSETFROM:-0500
TZOFFSETTO:-0600
TZNAME:CST
DTSTART:20271107T070000
END:STANDARD
END:VTIMEZONE
BEGIN:VEVENT
DTSTART;TZID=America/Chicago:20260421T100000
DTEND;TZID=America/Chicago:20260421T120000
DTSTAMP:20260421T045226
CREATED:20260105T180518Z
LAST-MODIFIED:20260105T180600Z
UID:10003156-1776765600-1776772800@superiorlibrary.org
SUMMARY:Local History Help
DESCRIPTION:Are you starting out making a family tree? Curious about local history? Want someone to teach you how to load and operate a microfilm reader? Our local history librarian is available twice a week for drop-in visits helping patrons connect with the local history and genealogical resources available at Superior Public Library. \nDrop in on Tuesdays from 10 a.m. – 12 p.m. and Thursdays from 1-3 p.m. to meet with our local history librarian and get the help you need! No appointment required!
URL:https://superiorlibrary.org/event/local-history-help/2026-04-21/
LOCATION:Superior Public Library\, 1530 Tower Ave.\, Superior\, WI\, 54880\, United States
CATEGORIES:Adult Event,Community Event,In-Person Event
ATTACH;FMTTYPE=image/png:https://superiorlibrary.org/2019/wp-content/uploads/2026/01/Turquoise-and-Orange-Retro-Illustration-Now-Hiring-Flyer-1080-x-1080-px.png
END:VEVENT
BEGIN:VEVENT
DTSTART;TZID=America/Chicago:20260421T100000
DTEND;TZID=America/Chicago:20260421T120000
DTSTAMP:20260421T045226
CREATED:20260410T173236Z
LAST-MODIFIED:20260410T173236Z
UID:10003540-1776765600-1776772800@superiorlibrary.org
SUMMARY:CLICK & Learn at Lake Nebagamon
DESCRIPTION:Need some help with your smartphone\, tablet\, or laptop? Make an appointment with CLICK & Learn Digital Navigator Ethan Compton and learn more about how technology can make your life better!\n\nEthan visits the Imogene McGrath Memorial Library in Lake Nebagamon on the third Tuesday of each month from 10 a.m. to 12 p.m. Upcoming dates are April 21\, May 19\, and June 16.\n\nNo library card required. Laptop checkouts are also available.\n\nDrop-in help will be provided upon request\, but appointments will take priority.\n\nClick this link to schedule an appointment with Ethan at Lake Nebagamon.
URL:https://superiorlibrary.org/event/click-learn-at-lake-nebagamon-7/2026-04-21/
LOCATION:Imogene McGrath Memorial Library\, 11628 East County Road B\, Lake Nebagamon\, WI\, 54849\, United States
CATEGORIES:Adult Event,Community Event,In-Person Event,Lake Nebagamon,Tech Help
ATTACH;FMTTYPE=image/png:https://superiorlibrary.org/2019/wp-content/uploads/2026/04/CLICK-2.png
END:VEVENT
BEGIN:VEVENT
DTSTART;TZID=America/Chicago:20260421T103000
DTEND;TZID=America/Chicago:20260421T113000
DTSTAMP:20260421T045226
CREATED:20260106T010813Z
LAST-MODIFIED:20260223T185457Z
UID:10003262-1776767400-1776771000@superiorlibrary.org
SUMMARY:Storytime at the Library
DESCRIPTION:Come to library storytime on Tuesdays at 10:30 a.m. and enjoy stories\, songs\, crafts\, and FUN with your little one! \nThere will be NO Storytime on Tuesday\, March 10. \nStorytime is a GREAT activity for your child! It promotes early literacy and language development\, helps develop social and communication skills\, and encourages imagination and creativity while also building their appreciation for books! It’s also a great way to bond with your little one!
URL:https://superiorlibrary.org/event/storytime-at-the-library/2026-04-21/
LOCATION:Superior Public Library\, 1530 Tower Ave.\, Superior\, WI\, 54880\, United States
CATEGORIES:Community Event,In-Person Event,Youth Services
ATTACH;FMTTYPE=image/jpeg:https://superiorlibrary.org/2019/wp-content/uploads/2026/01/Storytime-Instagram-Post-1.jpg
END:VEVENT
BEGIN:VEVENT
DTSTART;TZID=America/Chicago:20260421T130000
DTEND;TZID=America/Chicago:20260421T150000
DTSTAMP:20260421T045226
CREATED:20260410T173715Z
LAST-MODIFIED:20260410T173715Z
UID:10003543-1776776400-1776783600@superiorlibrary.org
SUMMARY:CLICK & Learn at Solon Springs
DESCRIPTION:Need some help with your smartphone\, tablet\, or laptop? Make an appointment with CLICK & Learn Digital Navigator Ethan Compton and learn more about how technology can make your life better! \nEthan will visit the Joan Salmen Memorial Library in Solon Springs on the third Tuesday of each month from 1-3 p.m. Upcoming dates are April 21\, May 19 and June 16. \n**IMPORTANT ** Appointments are required for Solon Springs! No drop-ins will be admitted. \nNo library card required. Laptop checkouts are also available. \nClick this link to schedule an appointment to meet with Ethan at Solon Springs.
URL:https://superiorlibrary.org/event/click-learn-at-solon-springs-6/2026-04-21/
LOCATION:Joan Salmen Memorial Library\, 9420 E. Main\, (Old Village Hall)\, Solon Springs\, WI\, 54873\, United States
CATEGORIES:Adult Event,Community Event,In-Person Event,Solon Springs,Tech Help
ATTACH;FMTTYPE=image/png:https://superiorlibrary.org/2019/wp-content/uploads/2026/04/CLICK-2.png
END:VEVENT
BEGIN:VEVENT
DTSTART;TZID=America/Chicago:20260421T140000
DTEND;TZID=America/Chicago:20260421T150000
DTSTAMP:20260421T045226
CREATED:20260410T184724Z
LAST-MODIFIED:20260410T184724Z
UID:10003547-1776780000-1776783600@superiorlibrary.org
SUMMARY:Senior Bingo at the Senior Center
DESCRIPTION:Join library staff at the Lew Martin Senior Center (1527 Tower Avenue) on April 21 at 2 p.m. for our monthly Senior Bingo! Play bingo\, make new friends\, and win prizes! No registration required.
URL:https://superiorlibrary.org/event/senior-bingo-at-the-senior-center-7/
LOCATION:Lew Martin Senior Center\, 1527 Tower Avenue\, Superior\, 54880\, United States
CATEGORIES:Adult Event,Community Event,In-Person Event
ATTACH;FMTTYPE=image/png:https://superiorlibrary.org/2019/wp-content/uploads/2026/04/March-bingo-3.png
END:VEVENT
END:VCALENDAR