BEGIN:VCALENDAR
VERSION:2.0
PRODID:-//Superior Public Library - ECPv6.15.20//NONSGML v1.0//EN
CALSCALE:GREGORIAN
METHOD:PUBLISH
X-WR-CALNAME:Superior Public Library
X-ORIGINAL-URL:https://superiorlibrary.org
X-WR-CALDESC:Events for Superior Public Library
REFRESH-INTERVAL;VALUE=DURATION:PT1H
X-Robots-Tag:noindex
X-PUBLISHED-TTL:PT1H
BEGIN:VTIMEZONE
TZID:America/Chicago
BEGIN:DAYLIGHT
TZOFFSETFROM:-0600
TZOFFSETTO:-0500
TZNAME:CDT
DTSTART:20250309T080000
END:DAYLIGHT
BEGIN:STANDARD
TZOFFSETFROM:-0500
TZOFFSETTO:-0600
TZNAME:CST
DTSTART:20251102T070000
END:STANDARD
BEGIN:DAYLIGHT
TZOFFSETFROM:-0600
TZOFFSETTO:-0500
TZNAME:CDT
DTSTART:20260308T080000
END:DAYLIGHT
BEGIN:STANDARD
TZOFFSETFROM:-0500
TZOFFSETTO:-0600
TZNAME:CST
DTSTART:20261101T070000
END:STANDARD
BEGIN:DAYLIGHT
TZOFFSETFROM:-0600
TZOFFSETTO:-0500
TZNAME:CDT
DTSTART:20270314T080000
END:DAYLIGHT
BEGIN:STANDARD
TZOFFSETFROM:-0500
TZOFFSETTO:-0600
TZNAME:CST
DTSTART:20271107T070000
END:STANDARD
END:VTIMEZONE
BEGIN:VEVENT
DTSTART;TZID=America/Chicago:20260420T160000
DTEND;TZID=America/Chicago:20260420T180000
DTSTAMP:20260420T043432
CREATED:20260105T174550Z
LAST-MODIFIED:20260105T174550Z
UID:10003106-1776700800-1776708000@superiorlibrary.org
SUMMARY:Lego Club
DESCRIPTION:Join us at Superior Public Library every Monday from 4-6 p.m. for our Lego Club and make something AMAZING using our huge collection of Legos! Perfect for ages 3-12.
URL:https://superiorlibrary.org/event/lego-club/2026-04-20/
LOCATION:Superior Public Library\, 1530 Tower Ave.\, Superior\, WI\, 54880\, United States
CATEGORIES:Community Event,In-Person Event,Youth Services
ATTACH;FMTTYPE=image/png:https://superiorlibrary.org/2019/wp-content/uploads/2022/05/Blue-Illustration-Happy-International-Lego-Day-Instagram-Post.png
END:VEVENT
BEGIN:VEVENT
DTSTART;TZID=America/Chicago:20260420T163000
DTEND;TZID=America/Chicago:20260420T173000
DTSTAMP:20260420T043432
CREATED:20260415T192520Z
LAST-MODIFIED:20260415T192520Z
UID:10003560-1776702600-1776706200@superiorlibrary.org
SUMMARY:KidCrafts at Solon Springs
DESCRIPTION:Come to the Joan Salmen Memorial Library in Solon Springs for KidCrafts on Monday\, April 20 from 4:30-5:30 p.m. and make a sensory bottle craft! All supplies provided and NO registration required.
URL:https://superiorlibrary.org/event/kidcrafts-at-solon-springs-12/
LOCATION:Joan Salmen Memorial Library\, 9420 E. Main\, (Old Village Hall)\, Solon Springs\, WI\, 54873\, United States
CATEGORIES:Community Event,Craft program,Health/wellness,In-Person Event,Solon Springs,Youth Services
ATTACH;FMTTYPE=image/jpeg:https://superiorlibrary.org/2019/wp-content/uploads/2026/04/Your-paragraph-text-1080-x-1080-px-41.jpg
END:VEVENT
BEGIN:VEVENT
DTSTART;TZID=America/Chicago:20260420T180000
DTEND;TZID=America/Chicago:20260420T190000
DTSTAMP:20260420T043432
CREATED:20251201T154029Z
LAST-MODIFIED:20260317T180443Z
UID:10003483-1776708000-1776711600@superiorlibrary.org
SUMMARY:Tween & Teen Writing Club
DESCRIPTION:Are you a tween or teen who loves writing? Join us at the library for our Tween & Teen Writing Club on Mondays from 6-7 p.m. and enjoy writing/brainstorming games\, short lessons on effective writing skills\, and plenty of time to share your writing. This group is led by writer/educator Karen Christian and no registration is required!\n\n\n**There will be NO writing club on Monday\, December 29.**
URL:https://superiorlibrary.org/event/tween-teen-writing-club/2026-04-20/
LOCATION:Superior Public Library\, 1530 Tower Ave.\, Superior\, WI\, 54880\, United States
CATEGORIES:Community Event,In-Person Event,Meetings,Teen Event,Youth Services
ATTACH;FMTTYPE=image/png:https://superiorlibrary.org/2019/wp-content/uploads/2025/09/Your-paragraph-text-1080-x-1080-px-30.png
END:VEVENT
BEGIN:VEVENT
DTSTART;TZID=America/Chicago:20260420T180000
DTEND;TZID=America/Chicago:20260420T200000
DTSTAMP:20260420T043432
CREATED:20260324T155324Z
LAST-MODIFIED:20260324T155324Z
UID:10003521-1776708000-1776715200@superiorlibrary.org
SUMMARY:Free Movie: "Hamnet"
DESCRIPTION:The library will offer a free showing of the Oscar-winning film\, “Hamnet\,” on April 20 at 6 p.m. Set in late 16th-century England\, this film starts Jessie Buckley as Agnes\, a healer sensitive to the world around her\, who builds a home with William (Paul Mescal)\, a local tutor and aspiring playwright. As their lives fracture\, they are tested by distance\, silence\, and grief. This movie is rated PG-13 and closed captions will be enabled.
URL:https://superiorlibrary.org/event/free-movie-hamnet/
LOCATION:Superior Public Library\, 1530 Tower Ave.\, Superior\, WI\, 54880\, United States
CATEGORIES:Adult Event,Community Event,In-Person Event,Movies,Teen Event
ATTACH;FMTTYPE=image/jpeg:https://superiorlibrary.org/2019/wp-content/uploads/2026/03/Movies-for-website-28.jpg
END:VEVENT
END:VCALENDAR